BEGIN:VCALENDAR
VERSION:2.0
PRODID:https://www.kufer.de/kuferweb / DE
METHOD:PUBLISH
CALSCALE:GREGORIAN
X-WR-TIMEZONE:Europe/Berlin
BEGIN:VTIMEZONE
TZID:Europe/Berlin
X-LIC-LOCATION:Europe/Berlin
BEGIN:DAYLIGHT
TZOFFSETFROM:+0100
TZOFFSETTO:+0200
TZNAME:CEST
DTSTART:19700329T020000
RRULE:FREQ=YEARLY;INTERVAL=1;BYDAY=-1SU;BYMONTH=3
END:DAYLIGHT
BEGIN:STANDARD
TZOFFSETFROM:+0200
TZOFFSETTO:+0100
TZNAME:CET
DTSTART:19701025T030000
RRULE:FREQ=YEARLY;INTERVAL=1;BYDAY=-1SU;BYMONTH=10
END:STANDARD
END:VTIMEZONE
BEGIN:VEVENT
DTSTAMP:20260419T171537
DTSTART;TZID=Europe/Berlin:20251104T173000
DTEND;TZID=Europe/Berlin:20251104T180000
UID:H-25-37-20251104T173000@VHSWINNENDEN
SUMMARY:Futterausgabe für bedürftige Tierhaltende (H-25-37) 
LOCATION:VHS Wiesenstraße, Wiesenstraße 10, Winnenden, Foyer, Wiesenstr. 10, 71364 Winnenden
END:VEVENT
BEGIN:VEVENT
DTSTAMP:20260419T171537
DTSTART;TZID=Europe/Berlin:20251202T173000
DTEND;TZID=Europe/Berlin:20251202T180000
UID:H-25-37-20251202T173000@VHSWINNENDEN
SUMMARY:Futterausgabe für bedürftige Tierhaltende (H-25-37) 
LOCATION:VHS Wiesenstraße, Wiesenstraße 10, Winnenden, Foyer, Wiesenstr. 10, 71364 Winnenden
END:VEVENT
BEGIN:VEVENT
DTSTAMP:20260419T171537
DTSTART;TZID=Europe/Berlin:20260113T173000
DTEND;TZID=Europe/Berlin:20260113T180000
UID:H-25-37-20260113T173000@VHSWINNENDEN
SUMMARY:Futterausgabe für bedürftige Tierhaltende (H-25-37) 
LOCATION:VHS Wiesenstraße, Wiesenstraße 10, Winnenden, Foyer, Wiesenstr. 10, 71364 Winnenden
END:VEVENT
BEGIN:VEVENT
DTSTAMP:20260419T171537
DTSTART;TZID=Europe/Berlin:20260203T173000
DTEND;TZID=Europe/Berlin:20260203T180000
UID:H-25-37-20260203T173000@VHSWINNENDEN
SUMMARY:Futterausgabe für bedürftige Tierhaltende (H-25-37) 
LOCATION:VHS Wiesenstraße, Wiesenstraße 10, Winnenden, Foyer, Wiesenstr. 10, 71364 Winnenden
END:VEVENT
BEGIN:VEVENT
DTSTAMP:20260419T171537
DTSTART;TZID=Europe/Berlin:20260303T173000
DTEND;TZID=Europe/Berlin:20260303T180000
UID:H-25-37-20260303T173000@VHSWINNENDEN
SUMMARY:Futterausgabe für bedürftige Tierhaltende (H-25-37) 
LOCATION:VHS Wiesenstraße, Wiesenstraße 10, Winnenden, Foyer, Wiesenstr. 10, 71364 Winnenden
END:VEVENT
END:VCALENDAR