BEGIN:VCALENDAR
VERSION:2.0
PRODID:https://www.kufer.de/kuferweb / DE
METHOD:PUBLISH
CALSCALE:GREGORIAN
X-WR-TIMEZONE:Europe/Berlin
BEGIN:VTIMEZONE
TZID:Europe/Berlin
X-LIC-LOCATION:Europe/Berlin
BEGIN:DAYLIGHT
TZOFFSETFROM:+0100
TZOFFSETTO:+0200
TZNAME:CEST
DTSTART:19700329T020000
RRULE:FREQ=YEARLY;INTERVAL=1;BYDAY=-1SU;BYMONTH=3
END:DAYLIGHT
BEGIN:STANDARD
TZOFFSETFROM:+0200
TZOFFSETTO:+0100
TZNAME:CET
DTSTART:19701025T030000
RRULE:FREQ=YEARLY;INTERVAL=1;BYDAY=-1SU;BYMONTH=10
END:STANDARD
END:VTIMEZONE
BEGIN:VEVENT
DTSTAMP:20260421T140112
DTSTART;TZID=Europe/Berlin:20261016T183000
DTEND;TZID=Europe/Berlin:20261016T213000
UID:26H60055-20261016T183000@VHSWINNENDEN
SUMMARY:"Zamma" - zusammen neue Wege gehen! Fortbildung zur/m Inklusionsbegleiter*in (26H60055) 
LOCATION:VHS Wiesenstraße, Wiesenstraße 10, Winnenden, Raum 6, Wiesenstr. 10, 71364 Winnenden
END:VEVENT
BEGIN:VEVENT
DTSTAMP:20260421T140112
DTSTART;TZID=Europe/Berlin:20261017T090000
DTEND;TZID=Europe/Berlin:20261017T160000
UID:26H60055-20261017T090000@VHSWINNENDEN
SUMMARY:"Zamma" - zusammen neue Wege gehen! Fortbildung zur/m Inklusionsbegleiter*in (26H60055) 
LOCATION:VHS Wiesenstraße, Wiesenstraße 10, Winnenden, Raum 6, Wiesenstr. 10, 71364 Winnenden
END:VEVENT
BEGIN:VEVENT
DTSTAMP:20260421T140112
DTSTART;TZID=Europe/Berlin:20261106T183000
DTEND;TZID=Europe/Berlin:20261106T213000
UID:26H60055-20261106T183000@VHSWINNENDEN
SUMMARY:"Zamma" - zusammen neue Wege gehen! Fortbildung zur/m Inklusionsbegleiter*in (26H60055) 
LOCATION:VHS Wiesenstraße, Wiesenstraße 10, Winnenden, Raum 6, Wiesenstr. 10, 71364 Winnenden
END:VEVENT
BEGIN:VEVENT
DTSTAMP:20260421T140112
DTSTART;TZID=Europe/Berlin:20261107T090000
DTEND;TZID=Europe/Berlin:20261107T160000
UID:26H60055-20261107T090000@VHSWINNENDEN
SUMMARY:"Zamma" - zusammen neue Wege gehen! Fortbildung zur/m Inklusionsbegleiter*in (26H60055) 
LOCATION:VHS Wiesenstraße, Wiesenstraße 10, Winnenden, Raum 6, Wiesenstr. 10, 71364 Winnenden
END:VEVENT
BEGIN:VEVENT
DTSTAMP:20260421T140112
DTSTART;TZID=Europe/Berlin:20261127T183000
DTEND;TZID=Europe/Berlin:20261127T213000
UID:26H60055-20261127T183000@VHSWINNENDEN
SUMMARY:"Zamma" - zusammen neue Wege gehen! Fortbildung zur/m Inklusionsbegleiter*in (26H60055) 
LOCATION:VHS Wiesenstraße, Wiesenstraße 10, Winnenden, Raum 6, Wiesenstr. 10, 71364 Winnenden
END:VEVENT
BEGIN:VEVENT
DTSTAMP:20260421T140112
DTSTART;TZID=Europe/Berlin:20261128T090000
DTEND;TZID=Europe/Berlin:20261128T160000
UID:26H60055-20261128T090000@VHSWINNENDEN
SUMMARY:"Zamma" - zusammen neue Wege gehen! Fortbildung zur/m Inklusionsbegleiter*in (26H60055) 
LOCATION:VHS Wiesenstraße, Wiesenstraße 10, Winnenden, Raum 6, Wiesenstr. 10, 71364 Winnenden
END:VEVENT
END:VCALENDAR