BEGIN:VCALENDAR
VERSION:2.0
PRODID:https://www.kufer.de/kuferweb / DE
METHOD:PUBLISH
CALSCALE:GREGORIAN
X-WR-TIMEZONE:Europe/Berlin
BEGIN:VTIMEZONE
TZID:Europe/Berlin
X-LIC-LOCATION:Europe/Berlin
BEGIN:DAYLIGHT
TZOFFSETFROM:+0100
TZOFFSETTO:+0200
TZNAME:CEST
DTSTART:19700329T020000
RRULE:FREQ=YEARLY;INTERVAL=1;BYDAY=-1SU;BYMONTH=3
END:DAYLIGHT
BEGIN:STANDARD
TZOFFSETFROM:+0200
TZOFFSETTO:+0100
TZNAME:CET
DTSTART:19701025T030000
RRULE:FREQ=YEARLY;INTERVAL=1;BYDAY=-1SU;BYMONTH=10
END:STANDARD
END:VTIMEZONE
BEGIN:VEVENT
DTSTAMP:20260419T150913
DTSTART;TZID=Europe/Berlin:20260624T161500
DTEND;TZID=Europe/Berlin:20260624T181500
UID:26F65186-20260624T161500@VHSWINNENDEN
SUMMARY:Vulkan-Forscher für Kinder von 6 - 11 Jahren (26F65186) 
LOCATION:VHS Winnenden, Marktstraße 47, Winnenden, Vortragssaal, Mühltorstr. 3, 71364 Winnenden
END:VEVENT
END:VCALENDAR