BEGIN:VCALENDAR
VERSION:2.0
PRODID:https://www.kufer.de/kuferweb / DE
METHOD:PUBLISH
CALSCALE:GREGORIAN
X-WR-TIMEZONE:Europe/Berlin
BEGIN:VTIMEZONE
TZID:Europe/Berlin
X-LIC-LOCATION:Europe/Berlin
BEGIN:DAYLIGHT
TZOFFSETFROM:+0100
TZOFFSETTO:+0200
TZNAME:CEST
DTSTART:19700329T020000
RRULE:FREQ=YEARLY;INTERVAL=1;BYDAY=-1SU;BYMONTH=3
END:DAYLIGHT
BEGIN:STANDARD
TZOFFSETFROM:+0200
TZOFFSETTO:+0100
TZNAME:CET
DTSTART:19701025T030000
RRULE:FREQ=YEARLY;INTERVAL=1;BYDAY=-1SU;BYMONTH=10
END:STANDARD
END:VTIMEZONE
BEGIN:VEVENT
DTSTAMP:20260421T120138
DTSTART;TZID=Europe/Berlin:20260227T173000
DTEND;TZID=Europe/Berlin:20260227T183000
UID:26F63021-20260227T173000@VHSWINNENDEN
SUMMARY:Zumba® Kids für Kinder von Klasse 1 - 3 (26F63021) 
LOCATION:VHS Aktiv, Raum 1, Kornbeckstraße 4, Winnenden, Kornbeckstr. 4, 71364 Winnenden
END:VEVENT
BEGIN:VEVENT
DTSTAMP:20260421T120138
DTSTART;TZID=Europe/Berlin:20260306T173000
DTEND;TZID=Europe/Berlin:20260306T183000
UID:26F63021-20260306T173000@VHSWINNENDEN
SUMMARY:Zumba® Kids für Kinder von Klasse 1 - 3 (26F63021) 
LOCATION:VHS Aktiv, Raum 1, Kornbeckstraße 4, Winnenden, Kornbeckstr. 4, 71364 Winnenden
END:VEVENT
BEGIN:VEVENT
DTSTAMP:20260421T120138
DTSTART;TZID=Europe/Berlin:20260313T173000
DTEND;TZID=Europe/Berlin:20260313T183000
UID:26F63021-20260313T173000@VHSWINNENDEN
SUMMARY:Zumba® Kids für Kinder von Klasse 1 - 3 (26F63021) 
LOCATION:VHS Aktiv, Raum 1, Kornbeckstraße 4, Winnenden, Kornbeckstr. 4, 71364 Winnenden
END:VEVENT
BEGIN:VEVENT
DTSTAMP:20260421T120138
DTSTART;TZID=Europe/Berlin:20260417T173000
DTEND;TZID=Europe/Berlin:20260417T183000
UID:26F63021-20260417T173000@VHSWINNENDEN
SUMMARY:Zumba® Kids für Kinder von Klasse 1 - 3 (26F63021) 
LOCATION:VHS Aktiv, Raum 1, Kornbeckstraße 4, Winnenden, Kornbeckstr. 4, 71364 Winnenden
END:VEVENT
BEGIN:VEVENT
DTSTAMP:20260421T120138
DTSTART;TZID=Europe/Berlin:20260424T173000
DTEND;TZID=Europe/Berlin:20260424T183000
UID:26F63021-20260424T173000@VHSWINNENDEN
SUMMARY:Zumba® Kids für Kinder von Klasse 1 - 3 (26F63021) 
LOCATION:VHS Aktiv, Raum 1, Kornbeckstraße 4, Winnenden, Kornbeckstr. 4, 71364 Winnenden
END:VEVENT
BEGIN:VEVENT
DTSTAMP:20260421T120138
DTSTART;TZID=Europe/Berlin:20260508T173000
DTEND;TZID=Europe/Berlin:20260508T183000
UID:26F63021-20260508T173000@VHSWINNENDEN
SUMMARY:Zumba® Kids für Kinder von Klasse 1 - 3 (26F63021) 
LOCATION:VHS Aktiv, Raum 1, Kornbeckstraße 4, Winnenden, Kornbeckstr. 4, 71364 Winnenden
END:VEVENT
BEGIN:VEVENT
DTSTAMP:20260421T120138
DTSTART;TZID=Europe/Berlin:20260522T173000
DTEND;TZID=Europe/Berlin:20260522T183000
UID:26F63021-20260522T173000@VHSWINNENDEN
SUMMARY:Zumba® Kids für Kinder von Klasse 1 - 3 (26F63021) 
LOCATION:VHS Aktiv, Raum 1, Kornbeckstraße 4, Winnenden, Kornbeckstr. 4, 71364 Winnenden
END:VEVENT
BEGIN:VEVENT
DTSTAMP:20260421T120138
DTSTART;TZID=Europe/Berlin:20260612T173000
DTEND;TZID=Europe/Berlin:20260612T183000
UID:26F63021-20260612T173000@VHSWINNENDEN
SUMMARY:Zumba® Kids für Kinder von Klasse 1 - 3 (26F63021) 
LOCATION:VHS Aktiv, Raum 1, Kornbeckstraße 4, Winnenden, Kornbeckstr. 4, 71364 Winnenden
END:VEVENT
BEGIN:VEVENT
DTSTAMP:20260421T120138
DTSTART;TZID=Europe/Berlin:20260619T173000
DTEND;TZID=Europe/Berlin:20260619T183000
UID:26F63021-20260619T173000@VHSWINNENDEN
SUMMARY:Zumba® Kids für Kinder von Klasse 1 - 3 (26F63021) 
LOCATION:VHS Aktiv, Raum 1, Kornbeckstraße 4, Winnenden, Kornbeckstr. 4, 71364 Winnenden
END:VEVENT
BEGIN:VEVENT
DTSTAMP:20260421T120138
DTSTART;TZID=Europe/Berlin:20260703T173000
DTEND;TZID=Europe/Berlin:20260703T183000
UID:26F63021-20260703T173000@VHSWINNENDEN
SUMMARY:Zumba® Kids für Kinder von Klasse 1 - 3 (26F63021) 
LOCATION:VHS Aktiv, Raum 1, Kornbeckstraße 4, Winnenden, Kornbeckstr. 4, 71364 Winnenden
END:VEVENT
BEGIN:VEVENT
DTSTAMP:20260421T120138
DTSTART;TZID=Europe/Berlin:20260710T173000
DTEND;TZID=Europe/Berlin:20260710T183000
UID:26F63021-20260710T173000@VHSWINNENDEN
SUMMARY:Zumba® Kids für Kinder von Klasse 1 - 3 (26F63021) 
LOCATION:VHS Aktiv, Raum 1, Kornbeckstraße 4, Winnenden, Kornbeckstr. 4, 71364 Winnenden
END:VEVENT
BEGIN:VEVENT
DTSTAMP:20260421T120138
DTSTART;TZID=Europe/Berlin:20260717T173000
DTEND;TZID=Europe/Berlin:20260717T183000
UID:26F63021-20260717T173000@VHSWINNENDEN
SUMMARY:Zumba® Kids für Kinder von Klasse 1 - 3 (26F63021) 
LOCATION:VHS Aktiv, Raum 1, Kornbeckstraße 4, Winnenden, Kornbeckstr. 4, 71364 Winnenden
END:VEVENT
BEGIN:VEVENT
DTSTAMP:20260421T120138
DTSTART;TZID=Europe/Berlin:20260724T173000
DTEND;TZID=Europe/Berlin:20260724T183000
UID:26F63021-20260724T173000@VHSWINNENDEN
DESCRIPTION:Ersatz für Ausfall am 20.03.2026
SUMMARY:Zumba® Kids für Kinder von Klasse 1 - 3 (26F63021) 
LOCATION:VHS Aktiv, Raum 1, Kornbeckstraße 4, Winnenden, Kornbeckstr. 4, 71364 Winnenden
END:VEVENT
END:VCALENDAR