BEGIN:VCALENDAR
VERSION:2.0
PRODID:https://www.kufer.de/kuferweb / DE
METHOD:PUBLISH
CALSCALE:GREGORIAN
X-WR-TIMEZONE:Europe/Berlin
BEGIN:VTIMEZONE
TZID:Europe/Berlin
X-LIC-LOCATION:Europe/Berlin
BEGIN:DAYLIGHT
TZOFFSETFROM:+0100
TZOFFSETTO:+0200
TZNAME:CEST
DTSTART:19700329T020000
RRULE:FREQ=YEARLY;INTERVAL=1;BYDAY=-1SU;BYMONTH=3
END:DAYLIGHT
BEGIN:STANDARD
TZOFFSETFROM:+0200
TZOFFSETTO:+0100
TZNAME:CET
DTSTART:19701025T030000
RRULE:FREQ=YEARLY;INTERVAL=1;BYDAY=-1SU;BYMONTH=10
END:STANDARD
END:VTIMEZONE
BEGIN:VEVENT
DTSTAMP:20260421T125752
DTSTART;TZID=Europe/Berlin:20260227T143000
DTEND;TZID=Europe/Berlin:20260227T151500
UID:26F63020-20260227T143000@VHSWINNENDEN
SUMMARY:Zumba® Kids Junior für Kindergartenkinder ab 4 Jahren (26F63020) 
LOCATION:VHS Aktiv, Raum 1, Kornbeckstraße 4, Winnenden, Kornbeckstr. 4, 71364 Winnenden
END:VEVENT
BEGIN:VEVENT
DTSTAMP:20260421T125752
DTSTART;TZID=Europe/Berlin:20260306T143000
DTEND;TZID=Europe/Berlin:20260306T151500
UID:26F63020-20260306T143000@VHSWINNENDEN
SUMMARY:Zumba® Kids Junior für Kindergartenkinder ab 4 Jahren (26F63020) 
LOCATION:VHS Aktiv, Raum 1, Kornbeckstraße 4, Winnenden, Kornbeckstr. 4, 71364 Winnenden
END:VEVENT
BEGIN:VEVENT
DTSTAMP:20260421T125752
DTSTART;TZID=Europe/Berlin:20260313T143000
DTEND;TZID=Europe/Berlin:20260313T151500
UID:26F63020-20260313T143000@VHSWINNENDEN
SUMMARY:Zumba® Kids Junior für Kindergartenkinder ab 4 Jahren (26F63020) 
LOCATION:VHS Aktiv, Raum 1, Kornbeckstraße 4, Winnenden, Kornbeckstr. 4, 71364 Winnenden
END:VEVENT
BEGIN:VEVENT
DTSTAMP:20260421T125752
DTSTART;TZID=Europe/Berlin:20260417T143000
DTEND;TZID=Europe/Berlin:20260417T151500
UID:26F63020-20260417T143000@VHSWINNENDEN
SUMMARY:Zumba® Kids Junior für Kindergartenkinder ab 4 Jahren (26F63020) 
LOCATION:VHS Aktiv, Raum 1, Kornbeckstraße 4, Winnenden, Kornbeckstr. 4, 71364 Winnenden
END:VEVENT
BEGIN:VEVENT
DTSTAMP:20260421T125752
DTSTART;TZID=Europe/Berlin:20260424T143000
DTEND;TZID=Europe/Berlin:20260424T151500
UID:26F63020-20260424T143000@VHSWINNENDEN
SUMMARY:Zumba® Kids Junior für Kindergartenkinder ab 4 Jahren (26F63020) 
LOCATION:VHS Aktiv, Raum 1, Kornbeckstraße 4, Winnenden, Kornbeckstr. 4, 71364 Winnenden
END:VEVENT
BEGIN:VEVENT
DTSTAMP:20260421T125752
DTSTART;TZID=Europe/Berlin:20260508T143000
DTEND;TZID=Europe/Berlin:20260508T151500
UID:26F63020-20260508T143000@VHSWINNENDEN
SUMMARY:Zumba® Kids Junior für Kindergartenkinder ab 4 Jahren (26F63020) 
LOCATION:VHS Aktiv, Raum 1, Kornbeckstraße 4, Winnenden, Kornbeckstr. 4, 71364 Winnenden
END:VEVENT
BEGIN:VEVENT
DTSTAMP:20260421T125752
DTSTART;TZID=Europe/Berlin:20260522T143000
DTEND;TZID=Europe/Berlin:20260522T151500
UID:26F63020-20260522T143000@VHSWINNENDEN
SUMMARY:Zumba® Kids Junior für Kindergartenkinder ab 4 Jahren (26F63020) 
LOCATION:VHS Aktiv, Raum 1, Kornbeckstraße 4, Winnenden, Kornbeckstr. 4, 71364 Winnenden
END:VEVENT
BEGIN:VEVENT
DTSTAMP:20260421T125752
DTSTART;TZID=Europe/Berlin:20260612T143000
DTEND;TZID=Europe/Berlin:20260612T151500
UID:26F63020-20260612T143000@VHSWINNENDEN
SUMMARY:Zumba® Kids Junior für Kindergartenkinder ab 4 Jahren (26F63020) 
LOCATION:VHS Aktiv, Raum 1, Kornbeckstraße 4, Winnenden, Kornbeckstr. 4, 71364 Winnenden
END:VEVENT
BEGIN:VEVENT
DTSTAMP:20260421T125752
DTSTART;TZID=Europe/Berlin:20260619T143000
DTEND;TZID=Europe/Berlin:20260619T151500
UID:26F63020-20260619T143000@VHSWINNENDEN
SUMMARY:Zumba® Kids Junior für Kindergartenkinder ab 4 Jahren (26F63020) 
LOCATION:VHS Aktiv, Raum 1, Kornbeckstraße 4, Winnenden, Kornbeckstr. 4, 71364 Winnenden
END:VEVENT
BEGIN:VEVENT
DTSTAMP:20260421T125752
DTSTART;TZID=Europe/Berlin:20260703T143000
DTEND;TZID=Europe/Berlin:20260703T151500
UID:26F63020-20260703T143000@VHSWINNENDEN
SUMMARY:Zumba® Kids Junior für Kindergartenkinder ab 4 Jahren (26F63020) 
LOCATION:VHS Aktiv, Raum 1, Kornbeckstraße 4, Winnenden, Kornbeckstr. 4, 71364 Winnenden
END:VEVENT
BEGIN:VEVENT
DTSTAMP:20260421T125752
DTSTART;TZID=Europe/Berlin:20260710T143000
DTEND;TZID=Europe/Berlin:20260710T151500
UID:26F63020-20260710T143000@VHSWINNENDEN
SUMMARY:Zumba® Kids Junior für Kindergartenkinder ab 4 Jahren (26F63020) 
LOCATION:VHS Aktiv, Raum 1, Kornbeckstraße 4, Winnenden, Kornbeckstr. 4, 71364 Winnenden
END:VEVENT
BEGIN:VEVENT
DTSTAMP:20260421T125752
DTSTART;TZID=Europe/Berlin:20260717T143000
DTEND;TZID=Europe/Berlin:20260717T151500
UID:26F63020-20260717T143000@VHSWINNENDEN
SUMMARY:Zumba® Kids Junior für Kindergartenkinder ab 4 Jahren (26F63020) 
LOCATION:VHS Aktiv, Raum 1, Kornbeckstraße 4, Winnenden, Kornbeckstr. 4, 71364 Winnenden
END:VEVENT
BEGIN:VEVENT
DTSTAMP:20260421T125752
DTSTART;TZID=Europe/Berlin:20260724T143000
DTEND;TZID=Europe/Berlin:20260724T151500
UID:26F63020-20260724T143000@VHSWINNENDEN
DESCRIPTION:Ersatz für Ausfall am 20.03.2026
SUMMARY:Zumba® Kids Junior für Kindergartenkinder ab 4 Jahren (26F63020) 
LOCATION:VHS Aktiv, Raum 1, Kornbeckstraße 4, Winnenden, Kornbeckstr. 4, 71364 Winnenden
END:VEVENT
END:VCALENDAR