BEGIN:VCALENDAR
VERSION:2.0
PRODID:https://www.kufer.de/kuferweb / DE
METHOD:PUBLISH
CALSCALE:GREGORIAN
X-WR-TIMEZONE:Europe/Berlin
BEGIN:VTIMEZONE
TZID:Europe/Berlin
X-LIC-LOCATION:Europe/Berlin
BEGIN:DAYLIGHT
TZOFFSETFROM:+0100
TZOFFSETTO:+0200
TZNAME:CEST
DTSTART:19700329T020000
RRULE:FREQ=YEARLY;INTERVAL=1;BYDAY=-1SU;BYMONTH=3
END:DAYLIGHT
BEGIN:STANDARD
TZOFFSETFROM:+0200
TZOFFSETTO:+0100
TZNAME:CET
DTSTART:19701025T030000
RRULE:FREQ=YEARLY;INTERVAL=1;BYDAY=-1SU;BYMONTH=10
END:STANDARD
END:VTIMEZONE
BEGIN:VEVENT
DTSTAMP:20260419T154301
DTSTART;TZID=Europe/Berlin:20260502T090000
DTEND;TZID=Europe/Berlin:20260502T160000
UID:26F58080-20260502T090000@VHSWINNENDEN
SUMMARY:Adobe Photoshop CC - Grundlagen (26F58080) 
LOCATION:VHS Unteres Remstal, Waiblingen, Bürgermühlenweg 4, Raum 2.4, Bürgermühlenweg 4, 71332 Waiblingen
END:VEVENT
BEGIN:VEVENT
DTSTAMP:20260419T154301
DTSTART;TZID=Europe/Berlin:20260503T090000
DTEND;TZID=Europe/Berlin:20260503T160000
UID:26F58080-20260503T090000@VHSWINNENDEN
SUMMARY:Adobe Photoshop CC - Grundlagen (26F58080) 
LOCATION:VHS Unteres Remstal, Waiblingen, Bürgermühlenweg 4, Raum 2.4, Bürgermühlenweg 4, 71332 Waiblingen
END:VEVENT
END:VCALENDAR