BEGIN:VCALENDAR
VERSION:2.0
PRODID:https://www.kufer.de/kuferweb / DE
METHOD:PUBLISH
CALSCALE:GREGORIAN
X-WR-TIMEZONE:Europe/Berlin
BEGIN:VTIMEZONE
TZID:Europe/Berlin
X-LIC-LOCATION:Europe/Berlin
BEGIN:DAYLIGHT
TZOFFSETFROM:+0100
TZOFFSETTO:+0200
TZNAME:CEST
DTSTART:19700329T020000
RRULE:FREQ=YEARLY;INTERVAL=1;BYDAY=-1SU;BYMONTH=3
END:DAYLIGHT
BEGIN:STANDARD
TZOFFSETFROM:+0200
TZOFFSETTO:+0100
TZNAME:CET
DTSTART:19701025T030000
RRULE:FREQ=YEARLY;INTERVAL=1;BYDAY=-1SU;BYMONTH=10
END:STANDARD
END:VTIMEZONE
BEGIN:VEVENT
DTSTAMP:20260419T140046
DTSTART;TZID=Europe/Berlin:20260224T194500
DTEND;TZID=Europe/Berlin:20260224T211500
UID:26F47223-H-20260224T194500@VHSWINNENDEN
SUMMARY:Niederländisch A2 (26F47223-H) 
LOCATION:VHS Wiesenstraße, Wiesenstraße 10, Winnenden, Raum 6, Wiesenstr. 10, 71364 Winnenden
END:VEVENT
BEGIN:VEVENT
DTSTAMP:20260419T140046
DTSTART;TZID=Europe/Berlin:20260303T194500
DTEND;TZID=Europe/Berlin:20260303T211500
UID:26F47223-H-20260303T194500@VHSWINNENDEN
SUMMARY:Niederländisch A2 (26F47223-H) 
LOCATION:Online-Kurs, zoomkurshost3@vhs-winnenden.de, 71364 Winnenden
END:VEVENT
BEGIN:VEVENT
DTSTAMP:20260419T140046
DTSTART;TZID=Europe/Berlin:20260310T194500
DTEND;TZID=Europe/Berlin:20260310T211500
UID:26F47223-H-20260310T194500@VHSWINNENDEN
SUMMARY:Niederländisch A2 (26F47223-H) 
LOCATION:Online-Kurs, zoomkurshost3@vhs-winnenden.de, 71364 Winnenden
END:VEVENT
BEGIN:VEVENT
DTSTAMP:20260419T140046
DTSTART;TZID=Europe/Berlin:20260317T194500
DTEND;TZID=Europe/Berlin:20260317T211500
UID:26F47223-H-20260317T194500@VHSWINNENDEN
SUMMARY:Niederländisch A2 (26F47223-H) 
LOCATION:Online-Kurs, zoomkurshost3@vhs-winnenden.de, 71364 Winnenden
END:VEVENT
BEGIN:VEVENT
DTSTAMP:20260419T140046
DTSTART;TZID=Europe/Berlin:20260324T194500
DTEND;TZID=Europe/Berlin:20260324T211500
UID:26F47223-H-20260324T194500@VHSWINNENDEN
SUMMARY:Niederländisch A2 (26F47223-H) 
LOCATION:Online-Kurs, zoomkurshost3@vhs-winnenden.de, 71364 Winnenden
END:VEVENT
BEGIN:VEVENT
DTSTAMP:20260419T140046
DTSTART;TZID=Europe/Berlin:20260414T194500
DTEND;TZID=Europe/Berlin:20260414T211500
UID:26F47223-H-20260414T194500@VHSWINNENDEN
SUMMARY:Niederländisch A2 (26F47223-H) 
LOCATION:Online-Kurs, zoomkurshost3@vhs-winnenden.de, 71364 Winnenden
END:VEVENT
BEGIN:VEVENT
DTSTAMP:20260419T140046
DTSTART;TZID=Europe/Berlin:20260421T194500
DTEND;TZID=Europe/Berlin:20260421T211500
UID:26F47223-H-20260421T194500@VHSWINNENDEN
SUMMARY:Niederländisch A2 (26F47223-H) 
LOCATION:Online-Kurs, zoomkurshost3@vhs-winnenden.de, 71364 Winnenden
END:VEVENT
BEGIN:VEVENT
DTSTAMP:20260419T140046
DTSTART;TZID=Europe/Berlin:20260428T194500
DTEND;TZID=Europe/Berlin:20260428T211500
UID:26F47223-H-20260428T194500@VHSWINNENDEN
SUMMARY:Niederländisch A2 (26F47223-H) 
LOCATION:Online-Kurs, zoomkurshost3@vhs-winnenden.de, 71364 Winnenden
END:VEVENT
BEGIN:VEVENT
DTSTAMP:20260419T140046
DTSTART;TZID=Europe/Berlin:20260505T194500
DTEND;TZID=Europe/Berlin:20260505T211500
UID:26F47223-H-20260505T194500@VHSWINNENDEN
SUMMARY:Niederländisch A2 (26F47223-H) 
LOCATION:VHS Wiesenstraße, Wiesenstraße 10, Winnenden, Raum 6, Wiesenstr. 10, 71364 Winnenden
END:VEVENT
BEGIN:VEVENT
DTSTAMP:20260419T140046
DTSTART;TZID=Europe/Berlin:20260512T194500
DTEND;TZID=Europe/Berlin:20260512T211500
UID:26F47223-H-20260512T194500@VHSWINNENDEN
SUMMARY:Niederländisch A2 (26F47223-H) 
LOCATION:VHS Wiesenstraße, Wiesenstraße 10, Winnenden, Raum 6, Wiesenstr. 10, 71364 Winnenden
END:VEVENT
BEGIN:VEVENT
DTSTAMP:20260419T140046
DTSTART;TZID=Europe/Berlin:20260519T194500
DTEND;TZID=Europe/Berlin:20260519T211500
UID:26F47223-H-20260519T194500@VHSWINNENDEN
SUMMARY:Niederländisch A2 (26F47223-H) 
LOCATION:VHS Wiesenstraße, Wiesenstraße 10, Winnenden, Raum 6, Wiesenstr. 10, 71364 Winnenden
END:VEVENT
BEGIN:VEVENT
DTSTAMP:20260419T140046
DTSTART;TZID=Europe/Berlin:20260609T194500
DTEND;TZID=Europe/Berlin:20260609T211500
UID:26F47223-H-20260609T194500@VHSWINNENDEN
SUMMARY:Niederländisch A2 (26F47223-H) 
LOCATION:VHS Wiesenstraße, Wiesenstraße 10, Winnenden, Raum 6, Wiesenstr. 10, 71364 Winnenden
END:VEVENT
BEGIN:VEVENT
DTSTAMP:20260419T140046
DTSTART;TZID=Europe/Berlin:20260616T194500
DTEND;TZID=Europe/Berlin:20260616T211500
UID:26F47223-H-20260616T194500@VHSWINNENDEN
SUMMARY:Niederländisch A2 (26F47223-H) 
LOCATION:VHS Wiesenstraße, Wiesenstraße 10, Winnenden, Raum 6, Wiesenstr. 10, 71364 Winnenden
END:VEVENT
BEGIN:VEVENT
DTSTAMP:20260419T140046
DTSTART;TZID=Europe/Berlin:20260623T194500
DTEND;TZID=Europe/Berlin:20260623T211500
UID:26F47223-H-20260623T194500@VHSWINNENDEN
SUMMARY:Niederländisch A2 (26F47223-H) 
LOCATION:VHS Wiesenstraße, Wiesenstraße 10, Winnenden, Raum 6, Wiesenstr. 10, 71364 Winnenden
END:VEVENT
BEGIN:VEVENT
DTSTAMP:20260419T140046
DTSTART;TZID=Europe/Berlin:20260630T194500
DTEND;TZID=Europe/Berlin:20260630T211500
UID:26F47223-H-20260630T194500@VHSWINNENDEN
SUMMARY:Niederländisch A2 (26F47223-H) 
LOCATION:VHS Wiesenstraße, Wiesenstraße 10, Winnenden, Raum 6, Wiesenstr. 10, 71364 Winnenden
END:VEVENT
END:VCALENDAR