BEGIN:VCALENDAR
VERSION:2.0
PRODID:https://www.kufer.de/kuferweb / DE
METHOD:PUBLISH
CALSCALE:GREGORIAN
X-WR-TIMEZONE:Europe/Berlin
BEGIN:VTIMEZONE
TZID:Europe/Berlin
X-LIC-LOCATION:Europe/Berlin
BEGIN:DAYLIGHT
TZOFFSETFROM:+0100
TZOFFSETTO:+0200
TZNAME:CEST
DTSTART:19700329T020000
RRULE:FREQ=YEARLY;INTERVAL=1;BYDAY=-1SU;BYMONTH=3
END:DAYLIGHT
BEGIN:STANDARD
TZOFFSETFROM:+0200
TZOFFSETTO:+0100
TZNAME:CET
DTSTART:19701025T030000
RRULE:FREQ=YEARLY;INTERVAL=1;BYDAY=-1SU;BYMONTH=10
END:STANDARD
END:VTIMEZONE
BEGIN:VEVENT
DTSTAMP:20260419T172435
DTSTART;TZID=Europe/Berlin:20260303T194500
DTEND;TZID=Europe/Berlin:20260303T211500
UID:26F46513-O-20260303T194500@VHSWINNENDEN
SUMMARY:Hebräisch (Ivrit) A2 - Online (26F46513-O) 
LOCATION:Online-Kurs, zoomkurshost4@vhs-winnenden.de, 71364 Winnenden
END:VEVENT
BEGIN:VEVENT
DTSTAMP:20260419T172435
DTSTART;TZID=Europe/Berlin:20260310T194500
DTEND;TZID=Europe/Berlin:20260310T211500
UID:26F46513-O-20260310T194500@VHSWINNENDEN
SUMMARY:Hebräisch (Ivrit) A2 - Online (26F46513-O) 
LOCATION:Online-Kurs, zoomkurshost4@vhs-winnenden.de, 71364 Winnenden
END:VEVENT
BEGIN:VEVENT
DTSTAMP:20260419T172435
DTSTART;TZID=Europe/Berlin:20260317T194500
DTEND;TZID=Europe/Berlin:20260317T211500
UID:26F46513-O-20260317T194500@VHSWINNENDEN
SUMMARY:Hebräisch (Ivrit) A2 - Online (26F46513-O) 
LOCATION:Online-Kurs, zoomkurshost4@vhs-winnenden.de, 71364 Winnenden
END:VEVENT
BEGIN:VEVENT
DTSTAMP:20260419T172435
DTSTART;TZID=Europe/Berlin:20260324T194500
DTEND;TZID=Europe/Berlin:20260324T211500
UID:26F46513-O-20260324T194500@VHSWINNENDEN
SUMMARY:Hebräisch (Ivrit) A2 - Online (26F46513-O) 
LOCATION:Online-Kurs, zoomkurshost4@vhs-winnenden.de, 71364 Winnenden
END:VEVENT
BEGIN:VEVENT
DTSTAMP:20260419T172435
DTSTART;TZID=Europe/Berlin:20260414T194500
DTEND;TZID=Europe/Berlin:20260414T211500
UID:26F46513-O-20260414T194500@VHSWINNENDEN
SUMMARY:Hebräisch (Ivrit) A2 - Online (26F46513-O) 
LOCATION:Online-Kurs, zoomkurshost4@vhs-winnenden.de, 71364 Winnenden
END:VEVENT
BEGIN:VEVENT
DTSTAMP:20260419T172435
DTSTART;TZID=Europe/Berlin:20260421T194500
DTEND;TZID=Europe/Berlin:20260421T211500
UID:26F46513-O-20260421T194500@VHSWINNENDEN
SUMMARY:Hebräisch (Ivrit) A2 - Online (26F46513-O) 
LOCATION:Online-Kurs, zoomkurshost4@vhs-winnenden.de, 71364 Winnenden
END:VEVENT
BEGIN:VEVENT
DTSTAMP:20260419T172435
DTSTART;TZID=Europe/Berlin:20260428T194500
DTEND;TZID=Europe/Berlin:20260428T211500
UID:26F46513-O-20260428T194500@VHSWINNENDEN
SUMMARY:Hebräisch (Ivrit) A2 - Online (26F46513-O) 
LOCATION:Online-Kurs, zoomkurshost4@vhs-winnenden.de, 71364 Winnenden
END:VEVENT
BEGIN:VEVENT
DTSTAMP:20260419T172435
DTSTART;TZID=Europe/Berlin:20260505T194500
DTEND;TZID=Europe/Berlin:20260505T211500
UID:26F46513-O-20260505T194500@VHSWINNENDEN
SUMMARY:Hebräisch (Ivrit) A2 - Online (26F46513-O) 
LOCATION:Online-Kurs, zoomkurshost4@vhs-winnenden.de, 71364 Winnenden
END:VEVENT
BEGIN:VEVENT
DTSTAMP:20260419T172435
DTSTART;TZID=Europe/Berlin:20260512T194500
DTEND;TZID=Europe/Berlin:20260512T211500
UID:26F46513-O-20260512T194500@VHSWINNENDEN
SUMMARY:Hebräisch (Ivrit) A2 - Online (26F46513-O) 
LOCATION:Online-Kurs, zoomkurshost4@vhs-winnenden.de, 71364 Winnenden
END:VEVENT
BEGIN:VEVENT
DTSTAMP:20260419T172435
DTSTART;TZID=Europe/Berlin:20260519T194500
DTEND;TZID=Europe/Berlin:20260519T211500
UID:26F46513-O-20260519T194500@VHSWINNENDEN
SUMMARY:Hebräisch (Ivrit) A2 - Online (26F46513-O) 
LOCATION:Online-Kurs, zoomkurshost4@vhs-winnenden.de, 71364 Winnenden
END:VEVENT
BEGIN:VEVENT
DTSTAMP:20260419T172435
DTSTART;TZID=Europe/Berlin:20260609T194500
DTEND;TZID=Europe/Berlin:20260609T211500
UID:26F46513-O-20260609T194500@VHSWINNENDEN
SUMMARY:Hebräisch (Ivrit) A2 - Online (26F46513-O) 
LOCATION:Online-Kurs, zoomkurshost4@vhs-winnenden.de, 71364 Winnenden
END:VEVENT
BEGIN:VEVENT
DTSTAMP:20260419T172435
DTSTART;TZID=Europe/Berlin:20260616T194500
DTEND;TZID=Europe/Berlin:20260616T211500
UID:26F46513-O-20260616T194500@VHSWINNENDEN
SUMMARY:Hebräisch (Ivrit) A2 - Online (26F46513-O) 
LOCATION:Online-Kurs, zoomkurshost4@vhs-winnenden.de, 71364 Winnenden
END:VEVENT
BEGIN:VEVENT
DTSTAMP:20260419T172435
DTSTART;TZID=Europe/Berlin:20260623T194500
DTEND;TZID=Europe/Berlin:20260623T211500
UID:26F46513-O-20260623T194500@VHSWINNENDEN
SUMMARY:Hebräisch (Ivrit) A2 - Online (26F46513-O) 
LOCATION:Online-Kurs, zoomkurshost4@vhs-winnenden.de, 71364 Winnenden
END:VEVENT
BEGIN:VEVENT
DTSTAMP:20260419T172435
DTSTART;TZID=Europe/Berlin:20260630T194500
DTEND;TZID=Europe/Berlin:20260630T211500
UID:26F46513-O-20260630T194500@VHSWINNENDEN
SUMMARY:Hebräisch (Ivrit) A2 - Online (26F46513-O) 
LOCATION:Online-Kurs, zoomkurshost4@vhs-winnenden.de, 71364 Winnenden
END:VEVENT
BEGIN:VEVENT
DTSTAMP:20260419T172435
DTSTART;TZID=Europe/Berlin:20260707T194500
DTEND;TZID=Europe/Berlin:20260707T211500
UID:26F46513-O-20260707T194500@VHSWINNENDEN
SUMMARY:Hebräisch (Ivrit) A2 - Online (26F46513-O) 
LOCATION:Online-Kurs, zoomkurshost4@vhs-winnenden.de, 71364 Winnenden
END:VEVENT
END:VCALENDAR