BEGIN:VCALENDAR
VERSION:2.0
PRODID:https://www.kufer.de/kuferweb / DE
METHOD:PUBLISH
CALSCALE:GREGORIAN
X-WR-TIMEZONE:Europe/Berlin
BEGIN:VTIMEZONE
TZID:Europe/Berlin
X-LIC-LOCATION:Europe/Berlin
BEGIN:DAYLIGHT
TZOFFSETFROM:+0100
TZOFFSETTO:+0200
TZNAME:CEST
DTSTART:19700329T020000
RRULE:FREQ=YEARLY;INTERVAL=1;BYDAY=-1SU;BYMONTH=3
END:DAYLIGHT
BEGIN:STANDARD
TZOFFSETFROM:+0200
TZOFFSETTO:+0100
TZNAME:CET
DTSTART:19701025T030000
RRULE:FREQ=YEARLY;INTERVAL=1;BYDAY=-1SU;BYMONTH=10
END:STANDARD
END:VTIMEZONE
BEGIN:VEVENT
DTSTAMP:20260419T172457
DTSTART;TZID=Europe/Berlin:20260224T093000
DTEND;TZID=Europe/Berlin:20260224T110000
UID:26F42121-20260224T093000@VHSWINNENDEN
SUMMARY:Englisch A2 - ohne Eile (26F42121) 
LOCATION:VHS Winnenden, Marktstraße 47, Winnenden Raum III, Marktstr. 47, 71364 Winnenden
END:VEVENT
BEGIN:VEVENT
DTSTAMP:20260419T172457
DTSTART;TZID=Europe/Berlin:20260303T093000
DTEND;TZID=Europe/Berlin:20260303T110000
UID:26F42121-20260303T093000@VHSWINNENDEN
SUMMARY:Englisch A2 - ohne Eile (26F42121) 
LOCATION:VHS Winnenden, Marktstraße 47, Winnenden Raum III, Marktstr. 47, 71364 Winnenden
END:VEVENT
BEGIN:VEVENT
DTSTAMP:20260419T172457
DTSTART;TZID=Europe/Berlin:20260317T093000
DTEND;TZID=Europe/Berlin:20260317T110000
UID:26F42121-20260317T093000@VHSWINNENDEN
SUMMARY:Englisch A2 - ohne Eile (26F42121) 
LOCATION:VHS Winnenden, Marktstraße 47, Winnenden Raum III, Marktstr. 47, 71364 Winnenden
END:VEVENT
BEGIN:VEVENT
DTSTAMP:20260419T172457
DTSTART;TZID=Europe/Berlin:20260324T093000
DTEND;TZID=Europe/Berlin:20260324T110000
UID:26F42121-20260324T093000@VHSWINNENDEN
SUMMARY:Englisch A2 - ohne Eile (26F42121) 
LOCATION:VHS Winnenden, Marktstraße 47, Winnenden Raum III, Marktstr. 47, 71364 Winnenden
END:VEVENT
BEGIN:VEVENT
DTSTAMP:20260419T172457
DTSTART;TZID=Europe/Berlin:20260414T093000
DTEND;TZID=Europe/Berlin:20260414T110000
UID:26F42121-20260414T093000@VHSWINNENDEN
SUMMARY:Englisch A2 - ohne Eile (26F42121) 
LOCATION:VHS Winnenden, Marktstraße 47, Winnenden Raum III, Marktstr. 47, 71364 Winnenden
END:VEVENT
BEGIN:VEVENT
DTSTAMP:20260419T172457
DTSTART;TZID=Europe/Berlin:20260428T093000
DTEND;TZID=Europe/Berlin:20260428T110000
UID:26F42121-20260428T093000@VHSWINNENDEN
SUMMARY:Englisch A2 - ohne Eile (26F42121) 
LOCATION:VHS Winnenden, Marktstraße 47, Winnenden Raum III, Marktstr. 47, 71364 Winnenden
END:VEVENT
BEGIN:VEVENT
DTSTAMP:20260419T172457
DTSTART;TZID=Europe/Berlin:20260505T093000
DTEND;TZID=Europe/Berlin:20260505T110000
UID:26F42121-20260505T093000@VHSWINNENDEN
SUMMARY:Englisch A2 - ohne Eile (26F42121) 
LOCATION:VHS Winnenden, Marktstraße 47, Winnenden Raum III, Marktstr. 47, 71364 Winnenden
END:VEVENT
BEGIN:VEVENT
DTSTAMP:20260419T172457
DTSTART;TZID=Europe/Berlin:20260512T093000
DTEND;TZID=Europe/Berlin:20260512T110000
UID:26F42121-20260512T093000@VHSWINNENDEN
SUMMARY:Englisch A2 - ohne Eile (26F42121) 
LOCATION:VHS Winnenden, Marktstraße 47, Winnenden Raum III, Marktstr. 47, 71364 Winnenden
END:VEVENT
BEGIN:VEVENT
DTSTAMP:20260419T172457
DTSTART;TZID=Europe/Berlin:20260519T093000
DTEND;TZID=Europe/Berlin:20260519T110000
UID:26F42121-20260519T093000@VHSWINNENDEN
SUMMARY:Englisch A2 - ohne Eile (26F42121) 
LOCATION:VHS Winnenden, Marktstraße 47, Winnenden Raum III, Marktstr. 47, 71364 Winnenden
END:VEVENT
BEGIN:VEVENT
DTSTAMP:20260419T172457
DTSTART;TZID=Europe/Berlin:20260609T093000
DTEND;TZID=Europe/Berlin:20260609T110000
UID:26F42121-20260609T093000@VHSWINNENDEN
SUMMARY:Englisch A2 - ohne Eile (26F42121) 
LOCATION:VHS Winnenden, Marktstraße 47, Winnenden Raum III, Marktstr. 47, 71364 Winnenden
END:VEVENT
BEGIN:VEVENT
DTSTAMP:20260419T172457
DTSTART;TZID=Europe/Berlin:20260616T093000
DTEND;TZID=Europe/Berlin:20260616T110000
UID:26F42121-20260616T093000@VHSWINNENDEN
DESCRIPTION:Ersatz für Ausfall am 10.03.2026
SUMMARY:Englisch A2 - ohne Eile (26F42121) 
LOCATION:VHS Winnenden, Marktstraße 47, Winnenden Raum III, Marktstr. 47, 71364 Winnenden
END:VEVENT
BEGIN:VEVENT
DTSTAMP:20260419T172457
DTSTART;TZID=Europe/Berlin:20260623T093000
DTEND;TZID=Europe/Berlin:20260623T110000
UID:26F42121-20260623T093000@VHSWINNENDEN
DESCRIPTION:Ersatz für Ausfall am 21.04.2026
SUMMARY:Englisch A2 - ohne Eile (26F42121) 
LOCATION:VHS Winnenden, Marktstraße 47, Winnenden Raum III, Marktstr. 47, 71364 Winnenden
END:VEVENT
END:VCALENDAR