BEGIN:VCALENDAR
VERSION:2.0
PRODID:https://www.kufer.de/kuferweb / DE
METHOD:PUBLISH
CALSCALE:GREGORIAN
X-WR-TIMEZONE:Europe/Berlin
BEGIN:VTIMEZONE
TZID:Europe/Berlin
X-LIC-LOCATION:Europe/Berlin
BEGIN:DAYLIGHT
TZOFFSETFROM:+0100
TZOFFSETTO:+0200
TZNAME:CEST
DTSTART:19700329T020000
RRULE:FREQ=YEARLY;INTERVAL=1;BYDAY=-1SU;BYMONTH=3
END:DAYLIGHT
BEGIN:STANDARD
TZOFFSETFROM:+0200
TZOFFSETTO:+0100
TZNAME:CET
DTSTART:19701025T030000
RRULE:FREQ=YEARLY;INTERVAL=1;BYDAY=-1SU;BYMONTH=10
END:STANDARD
END:VTIMEZONE
BEGIN:VEVENT
DTSTAMP:20260423T152007
DTSTART;TZID=Europe/Berlin:20260805T183000
DTEND;TZID=Europe/Berlin:20260805T193000
UID:26F33837-20260805T183000@VHSWINNENDEN
SUMMARY:Power-Fitmix für Fortgeschrittene im Park (26F33837) 
LOCATION:Schlosspark Winnenden, Winnenden, Schlossstr. 50, 71364 Winnenden
END:VEVENT
BEGIN:VEVENT
DTSTAMP:20260423T152007
DTSTART;TZID=Europe/Berlin:20260812T183000
DTEND;TZID=Europe/Berlin:20260812T193000
UID:26F33837-20260812T183000@VHSWINNENDEN
SUMMARY:Power-Fitmix für Fortgeschrittene im Park (26F33837) 
LOCATION:Schlosspark Winnenden, Winnenden, Schlossstr. 50, 71364 Winnenden
END:VEVENT
BEGIN:VEVENT
DTSTAMP:20260423T152007
DTSTART;TZID=Europe/Berlin:20260819T183000
DTEND;TZID=Europe/Berlin:20260819T193000
UID:26F33837-20260819T183000@VHSWINNENDEN
SUMMARY:Power-Fitmix für Fortgeschrittene im Park (26F33837) 
LOCATION:Schlosspark Winnenden, Winnenden, Schlossstr. 50, 71364 Winnenden
END:VEVENT
BEGIN:VEVENT
DTSTAMP:20260423T152007
DTSTART;TZID=Europe/Berlin:20260826T183000
DTEND;TZID=Europe/Berlin:20260826T193000
UID:26F33837-20260826T183000@VHSWINNENDEN
SUMMARY:Power-Fitmix für Fortgeschrittene im Park (26F33837) 
LOCATION:Schlosspark Winnenden, Winnenden, Schlossstr. 50, 71364 Winnenden
END:VEVENT
BEGIN:VEVENT
DTSTAMP:20260423T152007
DTSTART;TZID=Europe/Berlin:20260902T183000
DTEND;TZID=Europe/Berlin:20260902T193000
UID:26F33837-20260902T183000@VHSWINNENDEN
SUMMARY:Power-Fitmix für Fortgeschrittene im Park (26F33837) 
LOCATION:Schlosspark Winnenden, Winnenden, Schlossstr. 50, 71364 Winnenden
END:VEVENT
BEGIN:VEVENT
DTSTAMP:20260423T152007
DTSTART;TZID=Europe/Berlin:20260909T183000
DTEND;TZID=Europe/Berlin:20260909T193000
UID:26F33837-20260909T183000@VHSWINNENDEN
SUMMARY:Power-Fitmix für Fortgeschrittene im Park (26F33837) 
LOCATION:Schlosspark Winnenden, Winnenden, Schlossstr. 50, 71364 Winnenden
END:VEVENT
END:VCALENDAR