BEGIN:VCALENDAR
VERSION:2.0
PRODID:https://www.kufer.de/kuferweb / DE
METHOD:PUBLISH
CALSCALE:GREGORIAN
X-WR-TIMEZONE:Europe/Berlin
BEGIN:VTIMEZONE
TZID:Europe/Berlin
X-LIC-LOCATION:Europe/Berlin
BEGIN:DAYLIGHT
TZOFFSETFROM:+0100
TZOFFSETTO:+0200
TZNAME:CEST
DTSTART:19700329T020000
RRULE:FREQ=YEARLY;INTERVAL=1;BYDAY=-1SU;BYMONTH=3
END:DAYLIGHT
BEGIN:STANDARD
TZOFFSETFROM:+0200
TZOFFSETTO:+0100
TZNAME:CET
DTSTART:19701025T030000
RRULE:FREQ=YEARLY;INTERVAL=1;BYDAY=-1SU;BYMONTH=10
END:STANDARD
END:VTIMEZONE
BEGIN:VEVENT
DTSTAMP:20260419T140051
DTSTART;TZID=Europe/Berlin:20260223T194000
DTEND;TZID=Europe/Berlin:20260223T204000
UID:26F33190-20260223T194000@VHSWINNENDEN
SUMMARY:Fitness gemixt (26F33190) 
LOCATION:VHS Wiesenstraße, Wiesenstraße 10, Winnenden, Raum 7 - Sport, Wiesenstr. 10, 71364 Winnenden
END:VEVENT
BEGIN:VEVENT
DTSTAMP:20260419T140051
DTSTART;TZID=Europe/Berlin:20260302T194000
DTEND;TZID=Europe/Berlin:20260302T204000
UID:26F33190-20260302T194000@VHSWINNENDEN
SUMMARY:Fitness gemixt (26F33190) 
LOCATION:VHS Wiesenstraße, Wiesenstraße 10, Winnenden, Raum 7 - Sport, Wiesenstr. 10, 71364 Winnenden
END:VEVENT
BEGIN:VEVENT
DTSTAMP:20260419T140051
DTSTART;TZID=Europe/Berlin:20260309T194000
DTEND;TZID=Europe/Berlin:20260309T204000
UID:26F33190-20260309T194000@VHSWINNENDEN
SUMMARY:Fitness gemixt (26F33190) 
LOCATION:VHS Wiesenstraße, Wiesenstraße 10, Winnenden, Raum 7 - Sport, Wiesenstr. 10, 71364 Winnenden
END:VEVENT
BEGIN:VEVENT
DTSTAMP:20260419T140051
DTSTART;TZID=Europe/Berlin:20260316T194000
DTEND;TZID=Europe/Berlin:20260316T204000
UID:26F33190-20260316T194000@VHSWINNENDEN
SUMMARY:Fitness gemixt (26F33190) 
LOCATION:VHS Wiesenstraße, Wiesenstraße 10, Winnenden, Raum 7 - Sport, Wiesenstr. 10, 71364 Winnenden
END:VEVENT
BEGIN:VEVENT
DTSTAMP:20260419T140051
DTSTART;TZID=Europe/Berlin:20260323T194000
DTEND;TZID=Europe/Berlin:20260323T204000
UID:26F33190-20260323T194000@VHSWINNENDEN
SUMMARY:Fitness gemixt (26F33190) 
LOCATION:VHS Wiesenstraße, Wiesenstraße 10, Winnenden, Raum 7 - Sport, Wiesenstr. 10, 71364 Winnenden
END:VEVENT
BEGIN:VEVENT
DTSTAMP:20260419T140051
DTSTART;TZID=Europe/Berlin:20260413T194000
DTEND;TZID=Europe/Berlin:20260413T204000
UID:26F33190-20260413T194000@VHSWINNENDEN
SUMMARY:Fitness gemixt (26F33190) 
LOCATION:VHS Wiesenstraße, Wiesenstraße 10, Winnenden, Raum 7 - Sport, Wiesenstr. 10, 71364 Winnenden
END:VEVENT
BEGIN:VEVENT
DTSTAMP:20260419T140051
DTSTART;TZID=Europe/Berlin:20260420T194000
DTEND;TZID=Europe/Berlin:20260420T204000
UID:26F33190-20260420T194000@VHSWINNENDEN
SUMMARY:Fitness gemixt (26F33190) 
LOCATION:VHS Wiesenstraße, Wiesenstraße 10, Winnenden, Raum 7 - Sport, Wiesenstr. 10, 71364 Winnenden
END:VEVENT
BEGIN:VEVENT
DTSTAMP:20260419T140051
DTSTART;TZID=Europe/Berlin:20260427T194000
DTEND;TZID=Europe/Berlin:20260427T204000
UID:26F33190-20260427T194000@VHSWINNENDEN
SUMMARY:Fitness gemixt (26F33190) 
LOCATION:VHS Wiesenstraße, Wiesenstraße 10, Winnenden, Raum 7 - Sport, Wiesenstr. 10, 71364 Winnenden
END:VEVENT
BEGIN:VEVENT
DTSTAMP:20260419T140051
DTSTART;TZID=Europe/Berlin:20260504T194000
DTEND;TZID=Europe/Berlin:20260504T204000
UID:26F33190-20260504T194000@VHSWINNENDEN
SUMMARY:Fitness gemixt (26F33190) 
LOCATION:VHS Wiesenstraße, Wiesenstraße 10, Winnenden, Raum 7 - Sport, Wiesenstr. 10, 71364 Winnenden
END:VEVENT
BEGIN:VEVENT
DTSTAMP:20260419T140051
DTSTART;TZID=Europe/Berlin:20260511T194000
DTEND;TZID=Europe/Berlin:20260511T204000
UID:26F33190-20260511T194000@VHSWINNENDEN
SUMMARY:Fitness gemixt (26F33190) 
LOCATION:VHS Wiesenstraße, Wiesenstraße 10, Winnenden, Raum 7 - Sport, Wiesenstr. 10, 71364 Winnenden
END:VEVENT
BEGIN:VEVENT
DTSTAMP:20260419T140051
DTSTART;TZID=Europe/Berlin:20260518T194000
DTEND;TZID=Europe/Berlin:20260518T204000
UID:26F33190-20260518T194000@VHSWINNENDEN
SUMMARY:Fitness gemixt (26F33190) 
LOCATION:VHS Wiesenstraße, Wiesenstraße 10, Winnenden, Raum 7 - Sport, Wiesenstr. 10, 71364 Winnenden
END:VEVENT
BEGIN:VEVENT
DTSTAMP:20260419T140051
DTSTART;TZID=Europe/Berlin:20260608T194000
DTEND;TZID=Europe/Berlin:20260608T204000
UID:26F33190-20260608T194000@VHSWINNENDEN
SUMMARY:Fitness gemixt (26F33190) 
LOCATION:VHS Wiesenstraße, Wiesenstraße 10, Winnenden, Raum 7 - Sport, Wiesenstr. 10, 71364 Winnenden
END:VEVENT
BEGIN:VEVENT
DTSTAMP:20260419T140051
DTSTART;TZID=Europe/Berlin:20260615T194000
DTEND;TZID=Europe/Berlin:20260615T204000
UID:26F33190-20260615T194000@VHSWINNENDEN
SUMMARY:Fitness gemixt (26F33190) 
LOCATION:VHS Wiesenstraße, Wiesenstraße 10, Winnenden, Raum 7 - Sport, Wiesenstr. 10, 71364 Winnenden
END:VEVENT
BEGIN:VEVENT
DTSTAMP:20260419T140051
DTSTART;TZID=Europe/Berlin:20260622T194000
DTEND;TZID=Europe/Berlin:20260622T204000
UID:26F33190-20260622T194000@VHSWINNENDEN
SUMMARY:Fitness gemixt (26F33190) 
LOCATION:VHS Wiesenstraße, Wiesenstraße 10, Winnenden, Raum 7 - Sport, Wiesenstr. 10, 71364 Winnenden
END:VEVENT
BEGIN:VEVENT
DTSTAMP:20260419T140051
DTSTART;TZID=Europe/Berlin:20260629T194000
DTEND;TZID=Europe/Berlin:20260629T204000
UID:26F33190-20260629T194000@VHSWINNENDEN
SUMMARY:Fitness gemixt (26F33190) 
LOCATION:VHS Wiesenstraße, Wiesenstraße 10, Winnenden, Raum 7 - Sport, Wiesenstr. 10, 71364 Winnenden
END:VEVENT
BEGIN:VEVENT
DTSTAMP:20260419T140051
DTSTART;TZID=Europe/Berlin:20260706T194000
DTEND;TZID=Europe/Berlin:20260706T204000
UID:26F33190-20260706T194000@VHSWINNENDEN
SUMMARY:Fitness gemixt (26F33190) 
LOCATION:VHS Wiesenstraße, Wiesenstraße 10, Winnenden, Raum 7 - Sport, Wiesenstr. 10, 71364 Winnenden
END:VEVENT
BEGIN:VEVENT
DTSTAMP:20260419T140051
DTSTART;TZID=Europe/Berlin:20260713T194000
DTEND;TZID=Europe/Berlin:20260713T204000
UID:26F33190-20260713T194000@VHSWINNENDEN
SUMMARY:Fitness gemixt (26F33190) 
LOCATION:VHS Wiesenstraße, Wiesenstraße 10, Winnenden, Raum 7 - Sport, Wiesenstr. 10, 71364 Winnenden
END:VEVENT
BEGIN:VEVENT
DTSTAMP:20260419T140051
DTSTART;TZID=Europe/Berlin:20260720T194000
DTEND;TZID=Europe/Berlin:20260720T204000
UID:26F33190-20260720T194000@VHSWINNENDEN
SUMMARY:Fitness gemixt (26F33190) 
LOCATION:VHS Wiesenstraße, Wiesenstraße 10, Winnenden, Raum 7 - Sport, Wiesenstr. 10, 71364 Winnenden
END:VEVENT
END:VCALENDAR