BEGIN:VCALENDAR
VERSION:2.0
PRODID:https://www.kufer.de/kuferweb / DE
METHOD:PUBLISH
CALSCALE:GREGORIAN
X-WR-TIMEZONE:Europe/Berlin
BEGIN:VTIMEZONE
TZID:Europe/Berlin
X-LIC-LOCATION:Europe/Berlin
BEGIN:DAYLIGHT
TZOFFSETFROM:+0100
TZOFFSETTO:+0200
TZNAME:CEST
DTSTART:19700329T020000
RRULE:FREQ=YEARLY;INTERVAL=1;BYDAY=-1SU;BYMONTH=3
END:DAYLIGHT
BEGIN:STANDARD
TZOFFSETFROM:+0200
TZOFFSETTO:+0100
TZNAME:CET
DTSTART:19701025T030000
RRULE:FREQ=YEARLY;INTERVAL=1;BYDAY=-1SU;BYMONTH=10
END:STANDARD
END:VTIMEZONE
BEGIN:VEVENT
DTSTAMP:20260421T124429
DTSTART;TZID=Europe/Berlin:20260227T184500
DTEND;TZID=Europe/Berlin:20260227T194500
UID:26F33186-20260227T184500@VHSWINNENDEN
SUMMARY:Shape and Flow - Ein buntes Fitnessprogramm für Alle (26F33186) 
LOCATION:VHS Aktiv, Raum 1, Kornbeckstraße 4, Winnenden, Kornbeckstr. 4, 71364 Winnenden
END:VEVENT
BEGIN:VEVENT
DTSTAMP:20260421T124429
DTSTART;TZID=Europe/Berlin:20260306T184500
DTEND;TZID=Europe/Berlin:20260306T194500
UID:26F33186-20260306T184500@VHSWINNENDEN
SUMMARY:Shape and Flow - Ein buntes Fitnessprogramm für Alle (26F33186) 
LOCATION:VHS Aktiv, Raum 1, Kornbeckstraße 4, Winnenden, Kornbeckstr. 4, 71364 Winnenden
END:VEVENT
BEGIN:VEVENT
DTSTAMP:20260421T124429
DTSTART;TZID=Europe/Berlin:20260313T184500
DTEND;TZID=Europe/Berlin:20260313T194500
UID:26F33186-20260313T184500@VHSWINNENDEN
SUMMARY:Shape and Flow - Ein buntes Fitnessprogramm für Alle (26F33186) 
LOCATION:VHS Aktiv, Raum 1, Kornbeckstraße 4, Winnenden, Kornbeckstr. 4, 71364 Winnenden
END:VEVENT
BEGIN:VEVENT
DTSTAMP:20260421T124429
DTSTART;TZID=Europe/Berlin:20260320T184500
DTEND;TZID=Europe/Berlin:20260320T194500
UID:26F33186-20260320T184500@VHSWINNENDEN
SUMMARY:Shape and Flow - Ein buntes Fitnessprogramm für Alle (26F33186) 
LOCATION:VHS Aktiv, Raum 1, Kornbeckstraße 4, Winnenden, Kornbeckstr. 4, 71364 Winnenden
END:VEVENT
BEGIN:VEVENT
DTSTAMP:20260421T124429
DTSTART;TZID=Europe/Berlin:20260327T184500
DTEND;TZID=Europe/Berlin:20260327T194500
UID:26F33186-20260327T184500@VHSWINNENDEN
SUMMARY:Shape and Flow - Ein buntes Fitnessprogramm für Alle (26F33186) 
LOCATION:VHS Aktiv, Raum 1, Kornbeckstraße 4, Winnenden, Kornbeckstr. 4, 71364 Winnenden
END:VEVENT
BEGIN:VEVENT
DTSTAMP:20260421T124429
DTSTART;TZID=Europe/Berlin:20260417T184500
DTEND;TZID=Europe/Berlin:20260417T194500
UID:26F33186-20260417T184500@VHSWINNENDEN
SUMMARY:Shape and Flow - Ein buntes Fitnessprogramm für Alle (26F33186) 
LOCATION:VHS Aktiv, Raum 1, Kornbeckstraße 4, Winnenden, Kornbeckstr. 4, 71364 Winnenden
END:VEVENT
BEGIN:VEVENT
DTSTAMP:20260421T124429
DTSTART;TZID=Europe/Berlin:20260424T184500
DTEND;TZID=Europe/Berlin:20260424T194500
UID:26F33186-20260424T184500@VHSWINNENDEN
SUMMARY:Shape and Flow - Ein buntes Fitnessprogramm für Alle (26F33186) 
LOCATION:VHS Aktiv, Raum 1, Kornbeckstraße 4, Winnenden, Kornbeckstr. 4, 71364 Winnenden
END:VEVENT
BEGIN:VEVENT
DTSTAMP:20260421T124429
DTSTART;TZID=Europe/Berlin:20260508T184500
DTEND;TZID=Europe/Berlin:20260508T194500
UID:26F33186-20260508T184500@VHSWINNENDEN
SUMMARY:Shape and Flow - Ein buntes Fitnessprogramm für Alle (26F33186) 
LOCATION:VHS Aktiv, Raum 1, Kornbeckstraße 4, Winnenden, Kornbeckstr. 4, 71364 Winnenden
END:VEVENT
BEGIN:VEVENT
DTSTAMP:20260421T124429
DTSTART;TZID=Europe/Berlin:20260522T184500
DTEND;TZID=Europe/Berlin:20260522T194500
UID:26F33186-20260522T184500@VHSWINNENDEN
SUMMARY:Shape and Flow - Ein buntes Fitnessprogramm für Alle (26F33186) 
LOCATION:VHS Aktiv, Raum 1, Kornbeckstraße 4, Winnenden, Kornbeckstr. 4, 71364 Winnenden
END:VEVENT
BEGIN:VEVENT
DTSTAMP:20260421T124429
DTSTART;TZID=Europe/Berlin:20260612T184500
DTEND;TZID=Europe/Berlin:20260612T194500
UID:26F33186-20260612T184500@VHSWINNENDEN
SUMMARY:Shape and Flow - Ein buntes Fitnessprogramm für Alle (26F33186) 
LOCATION:VHS Aktiv, Raum 1, Kornbeckstraße 4, Winnenden, Kornbeckstr. 4, 71364 Winnenden
END:VEVENT
BEGIN:VEVENT
DTSTAMP:20260421T124429
DTSTART;TZID=Europe/Berlin:20260619T184500
DTEND;TZID=Europe/Berlin:20260619T194500
UID:26F33186-20260619T184500@VHSWINNENDEN
SUMMARY:Shape and Flow - Ein buntes Fitnessprogramm für Alle (26F33186) 
LOCATION:VHS Aktiv, Raum 1, Kornbeckstraße 4, Winnenden, Kornbeckstr. 4, 71364 Winnenden
END:VEVENT
BEGIN:VEVENT
DTSTAMP:20260421T124429
DTSTART;TZID=Europe/Berlin:20260626T184500
DTEND;TZID=Europe/Berlin:20260626T194500
UID:26F33186-20260626T184500@VHSWINNENDEN
SUMMARY:Shape and Flow - Ein buntes Fitnessprogramm für Alle (26F33186) 
LOCATION:VHS Aktiv, Raum 1, Kornbeckstraße 4, Winnenden, Kornbeckstr. 4, 71364 Winnenden
END:VEVENT
BEGIN:VEVENT
DTSTAMP:20260421T124429
DTSTART;TZID=Europe/Berlin:20260703T184500
DTEND;TZID=Europe/Berlin:20260703T194500
UID:26F33186-20260703T184500@VHSWINNENDEN
SUMMARY:Shape and Flow - Ein buntes Fitnessprogramm für Alle (26F33186) 
LOCATION:VHS Aktiv, Raum 1, Kornbeckstraße 4, Winnenden, Kornbeckstr. 4, 71364 Winnenden
END:VEVENT
BEGIN:VEVENT
DTSTAMP:20260421T124429
DTSTART;TZID=Europe/Berlin:20260710T184500
DTEND;TZID=Europe/Berlin:20260710T194500
UID:26F33186-20260710T184500@VHSWINNENDEN
SUMMARY:Shape and Flow - Ein buntes Fitnessprogramm für Alle (26F33186) 
LOCATION:VHS Aktiv, Raum 1, Kornbeckstraße 4, Winnenden, Kornbeckstr. 4, 71364 Winnenden
END:VEVENT
BEGIN:VEVENT
DTSTAMP:20260421T124429
DTSTART;TZID=Europe/Berlin:20260717T184500
DTEND;TZID=Europe/Berlin:20260717T194500
UID:26F33186-20260717T184500@VHSWINNENDEN
SUMMARY:Shape and Flow - Ein buntes Fitnessprogramm für Alle (26F33186) 
LOCATION:VHS Aktiv, Raum 1, Kornbeckstraße 4, Winnenden, Kornbeckstr. 4, 71364 Winnenden
END:VEVENT
END:VCALENDAR