BEGIN:VCALENDAR
VERSION:2.0
PRODID:https://www.kufer.de/kuferweb / DE
METHOD:PUBLISH
CALSCALE:GREGORIAN
X-WR-TIMEZONE:Europe/Berlin
BEGIN:VTIMEZONE
TZID:Europe/Berlin
X-LIC-LOCATION:Europe/Berlin
BEGIN:DAYLIGHT
TZOFFSETFROM:+0100
TZOFFSETTO:+0200
TZNAME:CEST
DTSTART:19700329T020000
RRULE:FREQ=YEARLY;INTERVAL=1;BYDAY=-1SU;BYMONTH=3
END:DAYLIGHT
BEGIN:STANDARD
TZOFFSETFROM:+0200
TZOFFSETTO:+0100
TZNAME:CET
DTSTART:19701025T030000
RRULE:FREQ=YEARLY;INTERVAL=1;BYDAY=-1SU;BYMONTH=10
END:STANDARD
END:VTIMEZONE
BEGIN:VEVENT
DTSTAMP:20260421T120142
DTSTART;TZID=Europe/Berlin:20260304T110000
DTEND;TZID=Europe/Berlin:20260304T120000
UID:26F33173-20260304T110000@VHSWINNENDEN
SUMMARY:Gymnastik für aktive Ältere (26F33173) 
LOCATION:Halle, Birkmannsweiler Talaue, Talaue 23, 71364 Winnenden
END:VEVENT
BEGIN:VEVENT
DTSTAMP:20260421T120142
DTSTART;TZID=Europe/Berlin:20260311T110000
DTEND;TZID=Europe/Berlin:20260311T120000
UID:26F33173-20260311T110000@VHSWINNENDEN
SUMMARY:Gymnastik für aktive Ältere (26F33173) 
LOCATION:Halle, Birkmannsweiler Talaue, Talaue 23, 71364 Winnenden
END:VEVENT
BEGIN:VEVENT
DTSTAMP:20260421T120142
DTSTART;TZID=Europe/Berlin:20260318T110000
DTEND;TZID=Europe/Berlin:20260318T120000
UID:26F33173-20260318T110000@VHSWINNENDEN
SUMMARY:Gymnastik für aktive Ältere (26F33173) 
LOCATION:Halle, Birkmannsweiler Talaue, Talaue 23, 71364 Winnenden
END:VEVENT
BEGIN:VEVENT
DTSTAMP:20260421T120142
DTSTART;TZID=Europe/Berlin:20260325T110000
DTEND;TZID=Europe/Berlin:20260325T120000
UID:26F33173-20260325T110000@VHSWINNENDEN
SUMMARY:Gymnastik für aktive Ältere (26F33173) 
LOCATION:Halle, Birkmannsweiler Talaue, Talaue 23, 71364 Winnenden
END:VEVENT
BEGIN:VEVENT
DTSTAMP:20260421T120142
DTSTART;TZID=Europe/Berlin:20260415T110000
DTEND;TZID=Europe/Berlin:20260415T120000
UID:26F33173-20260415T110000@VHSWINNENDEN
SUMMARY:Gymnastik für aktive Ältere (26F33173) 
LOCATION:Halle, Birkmannsweiler Talaue, Talaue 23, 71364 Winnenden
END:VEVENT
BEGIN:VEVENT
DTSTAMP:20260421T120142
DTSTART;TZID=Europe/Berlin:20260422T110000
DTEND;TZID=Europe/Berlin:20260422T120000
UID:26F33173-20260422T110000@VHSWINNENDEN
SUMMARY:Gymnastik für aktive Ältere (26F33173) 
LOCATION:Halle, Birkmannsweiler Talaue, Talaue 23, 71364 Winnenden
END:VEVENT
BEGIN:VEVENT
DTSTAMP:20260421T120142
DTSTART;TZID=Europe/Berlin:20260429T110000
DTEND;TZID=Europe/Berlin:20260429T120000
UID:26F33173-20260429T110000@VHSWINNENDEN
SUMMARY:Gymnastik für aktive Ältere (26F33173) 
LOCATION:Halle, Birkmannsweiler Talaue, Talaue 23, 71364 Winnenden
END:VEVENT
BEGIN:VEVENT
DTSTAMP:20260421T120142
DTSTART;TZID=Europe/Berlin:20260506T110000
DTEND;TZID=Europe/Berlin:20260506T120000
UID:26F33173-20260506T110000@VHSWINNENDEN
SUMMARY:Gymnastik für aktive Ältere (26F33173) 
LOCATION:Halle, Birkmannsweiler Talaue, Talaue 23, 71364 Winnenden
END:VEVENT
BEGIN:VEVENT
DTSTAMP:20260421T120142
DTSTART;TZID=Europe/Berlin:20260513T110000
DTEND;TZID=Europe/Berlin:20260513T120000
UID:26F33173-20260513T110000@VHSWINNENDEN
SUMMARY:Gymnastik für aktive Ältere (26F33173) 
LOCATION:Halle, Birkmannsweiler Talaue, Talaue 23, 71364 Winnenden
END:VEVENT
BEGIN:VEVENT
DTSTAMP:20260421T120142
DTSTART;TZID=Europe/Berlin:20260520T110000
DTEND;TZID=Europe/Berlin:20260520T120000
UID:26F33173-20260520T110000@VHSWINNENDEN
SUMMARY:Gymnastik für aktive Ältere (26F33173) 
LOCATION:Halle, Birkmannsweiler Talaue, Talaue 23, 71364 Winnenden
END:VEVENT
BEGIN:VEVENT
DTSTAMP:20260421T120142
DTSTART;TZID=Europe/Berlin:20260610T110000
DTEND;TZID=Europe/Berlin:20260610T120000
UID:26F33173-20260610T110000@VHSWINNENDEN
SUMMARY:Gymnastik für aktive Ältere (26F33173) 
LOCATION:Halle, Birkmannsweiler Talaue, Talaue 23, 71364 Winnenden
END:VEVENT
BEGIN:VEVENT
DTSTAMP:20260421T120142
DTSTART;TZID=Europe/Berlin:20260617T110000
DTEND;TZID=Europe/Berlin:20260617T120000
UID:26F33173-20260617T110000@VHSWINNENDEN
SUMMARY:Gymnastik für aktive Ältere (26F33173) 
LOCATION:Halle, Birkmannsweiler Talaue, Talaue 23, 71364 Winnenden
END:VEVENT
BEGIN:VEVENT
DTSTAMP:20260421T120142
DTSTART;TZID=Europe/Berlin:20260624T110000
DTEND;TZID=Europe/Berlin:20260624T120000
UID:26F33173-20260624T110000@VHSWINNENDEN
SUMMARY:Gymnastik für aktive Ältere (26F33173) 
LOCATION:Halle, Birkmannsweiler Talaue, Talaue 23, 71364 Winnenden
END:VEVENT
BEGIN:VEVENT
DTSTAMP:20260421T120142
DTSTART;TZID=Europe/Berlin:20260701T110000
DTEND;TZID=Europe/Berlin:20260701T120000
UID:26F33173-20260701T110000@VHSWINNENDEN
SUMMARY:Gymnastik für aktive Ältere (26F33173) 
LOCATION:Halle, Birkmannsweiler Talaue, Talaue 23, 71364 Winnenden
END:VEVENT
END:VCALENDAR