BEGIN:VCALENDAR
VERSION:2.0
PRODID:https://www.kufer.de/kuferweb / DE
METHOD:PUBLISH
CALSCALE:GREGORIAN
X-WR-TIMEZONE:Europe/Berlin
BEGIN:VTIMEZONE
TZID:Europe/Berlin
X-LIC-LOCATION:Europe/Berlin
BEGIN:DAYLIGHT
TZOFFSETFROM:+0100
TZOFFSETTO:+0200
TZNAME:CEST
DTSTART:19700329T020000
RRULE:FREQ=YEARLY;INTERVAL=1;BYDAY=-1SU;BYMONTH=3
END:DAYLIGHT
BEGIN:STANDARD
TZOFFSETFROM:+0200
TZOFFSETTO:+0100
TZNAME:CET
DTSTART:19701025T030000
RRULE:FREQ=YEARLY;INTERVAL=1;BYDAY=-1SU;BYMONTH=10
END:STANDARD
END:VTIMEZONE
BEGIN:VEVENT
DTSTAMP:20260421T184205
DTSTART;TZID=Europe/Berlin:20260304T194500
DTEND;TZID=Europe/Berlin:20260304T204500
UID:26F33169-20260304T194500@VHSWINNENDEN
SUMMARY:Power-Fitmix für Fortgeschrittene (26F33169) 
LOCATION:VHS Aktiv, Raum 1, Kornbeckstraße 4, Winnenden, Kornbeckstr. 4, 71364 Winnenden
END:VEVENT
BEGIN:VEVENT
DTSTAMP:20260421T184205
DTSTART;TZID=Europe/Berlin:20260311T194500
DTEND;TZID=Europe/Berlin:20260311T204500
UID:26F33169-20260311T194500@VHSWINNENDEN
SUMMARY:Power-Fitmix für Fortgeschrittene (26F33169) 
LOCATION:VHS Aktiv, Raum 1, Kornbeckstraße 4, Winnenden, Kornbeckstr. 4, 71364 Winnenden
END:VEVENT
BEGIN:VEVENT
DTSTAMP:20260421T184205
DTSTART;TZID=Europe/Berlin:20260318T194500
DTEND;TZID=Europe/Berlin:20260318T204500
UID:26F33169-20260318T194500@VHSWINNENDEN
SUMMARY:Power-Fitmix für Fortgeschrittene (26F33169) 
LOCATION:VHS Aktiv, Raum 1, Kornbeckstraße 4, Winnenden, Kornbeckstr. 4, 71364 Winnenden
END:VEVENT
BEGIN:VEVENT
DTSTAMP:20260421T184205
DTSTART;TZID=Europe/Berlin:20260415T194500
DTEND;TZID=Europe/Berlin:20260415T204500
UID:26F33169-20260415T194500@VHSWINNENDEN
SUMMARY:Power-Fitmix für Fortgeschrittene (26F33169) 
LOCATION:VHS Aktiv, Raum 1, Kornbeckstraße 4, Winnenden, Kornbeckstr. 4, 71364 Winnenden
END:VEVENT
BEGIN:VEVENT
DTSTAMP:20260421T184205
DTSTART;TZID=Europe/Berlin:20260422T194500
DTEND;TZID=Europe/Berlin:20260422T204500
UID:26F33169-20260422T194500@VHSWINNENDEN
SUMMARY:Power-Fitmix für Fortgeschrittene (26F33169) 
LOCATION:VHS Aktiv, Raum 1, Kornbeckstraße 4, Winnenden, Kornbeckstr. 4, 71364 Winnenden
END:VEVENT
BEGIN:VEVENT
DTSTAMP:20260421T184205
DTSTART;TZID=Europe/Berlin:20260506T194500
DTEND;TZID=Europe/Berlin:20260506T204500
UID:26F33169-20260506T194500@VHSWINNENDEN
SUMMARY:Power-Fitmix für Fortgeschrittene (26F33169) 
LOCATION:VHS Aktiv, Raum 1, Kornbeckstraße 4, Winnenden, Kornbeckstr. 4, 71364 Winnenden
END:VEVENT
BEGIN:VEVENT
DTSTAMP:20260421T184205
DTSTART;TZID=Europe/Berlin:20260513T194500
DTEND;TZID=Europe/Berlin:20260513T204500
UID:26F33169-20260513T194500@VHSWINNENDEN
SUMMARY:Power-Fitmix für Fortgeschrittene (26F33169) 
LOCATION:VHS Aktiv, Raum 1, Kornbeckstraße 4, Winnenden, Kornbeckstr. 4, 71364 Winnenden
END:VEVENT
BEGIN:VEVENT
DTSTAMP:20260421T184205
DTSTART;TZID=Europe/Berlin:20260520T194500
DTEND;TZID=Europe/Berlin:20260520T204500
UID:26F33169-20260520T194500@VHSWINNENDEN
SUMMARY:Power-Fitmix für Fortgeschrittene (26F33169) 
LOCATION:VHS Aktiv, Raum 1, Kornbeckstraße 4, Winnenden, Kornbeckstr. 4, 71364 Winnenden
END:VEVENT
BEGIN:VEVENT
DTSTAMP:20260421T184205
DTSTART;TZID=Europe/Berlin:20260610T194500
DTEND;TZID=Europe/Berlin:20260610T204500
UID:26F33169-20260610T194500@VHSWINNENDEN
SUMMARY:Power-Fitmix für Fortgeschrittene (26F33169) 
LOCATION:VHS Aktiv, Raum 1, Kornbeckstraße 4, Winnenden, Kornbeckstr. 4, 71364 Winnenden
END:VEVENT
BEGIN:VEVENT
DTSTAMP:20260421T184205
DTSTART;TZID=Europe/Berlin:20260617T194500
DTEND;TZID=Europe/Berlin:20260617T204500
UID:26F33169-20260617T194500@VHSWINNENDEN
SUMMARY:Power-Fitmix für Fortgeschrittene (26F33169) 
LOCATION:VHS Aktiv, Raum 1, Kornbeckstraße 4, Winnenden, Kornbeckstr. 4, 71364 Winnenden
END:VEVENT
BEGIN:VEVENT
DTSTAMP:20260421T184205
DTSTART;TZID=Europe/Berlin:20260624T194500
DTEND;TZID=Europe/Berlin:20260624T204500
UID:26F33169-20260624T194500@VHSWINNENDEN
SUMMARY:Power-Fitmix für Fortgeschrittene (26F33169) 
LOCATION:VHS Aktiv, Raum 1, Kornbeckstraße 4, Winnenden, Kornbeckstr. 4, 71364 Winnenden
END:VEVENT
BEGIN:VEVENT
DTSTAMP:20260421T184205
DTSTART;TZID=Europe/Berlin:20260701T194500
DTEND;TZID=Europe/Berlin:20260701T204500
UID:26F33169-20260701T194500@VHSWINNENDEN
SUMMARY:Power-Fitmix für Fortgeschrittene (26F33169) 
LOCATION:VHS Aktiv, Raum 1, Kornbeckstraße 4, Winnenden, Kornbeckstr. 4, 71364 Winnenden
END:VEVENT
END:VCALENDAR