BEGIN:VCALENDAR
VERSION:2.0
PRODID:https://www.kufer.de/kuferweb / DE
METHOD:PUBLISH
CALSCALE:GREGORIAN
X-WR-TIMEZONE:Europe/Berlin
BEGIN:VTIMEZONE
TZID:Europe/Berlin
X-LIC-LOCATION:Europe/Berlin
BEGIN:DAYLIGHT
TZOFFSETFROM:+0100
TZOFFSETTO:+0200
TZNAME:CEST
DTSTART:19700329T020000
RRULE:FREQ=YEARLY;INTERVAL=1;BYDAY=-1SU;BYMONTH=3
END:DAYLIGHT
BEGIN:STANDARD
TZOFFSETFROM:+0200
TZOFFSETTO:+0100
TZNAME:CET
DTSTART:19701025T030000
RRULE:FREQ=YEARLY;INTERVAL=1;BYDAY=-1SU;BYMONTH=10
END:STANDARD
END:VTIMEZONE
BEGIN:VEVENT
DTSTAMP:20260419T172452
DTSTART;TZID=Europe/Berlin:20260318T160000
DTEND;TZID=Europe/Berlin:20260318T165500
UID:26F33019-20260318T160000@VHSWINNENDEN
SUMMARY:Pilates und Faszientraining am Nachmittag (26F33019) 
LOCATION:Paulinenpflege, Winnenden, Gymnastikraum, Lange Gasse 7, 71364 Winnenden
END:VEVENT
BEGIN:VEVENT
DTSTAMP:20260419T172452
DTSTART;TZID=Europe/Berlin:20260325T160000
DTEND;TZID=Europe/Berlin:20260325T165500
UID:26F33019-20260325T160000@VHSWINNENDEN
SUMMARY:Pilates und Faszientraining am Nachmittag (26F33019) 
LOCATION:Paulinenpflege, Winnenden, Gymnastikraum, Lange Gasse 7, 71364 Winnenden
END:VEVENT
BEGIN:VEVENT
DTSTAMP:20260419T172452
DTSTART;TZID=Europe/Berlin:20260401T160000
DTEND;TZID=Europe/Berlin:20260401T165500
UID:26F33019-20260401T160000@VHSWINNENDEN
SUMMARY:Pilates und Faszientraining am Nachmittag (26F33019) 
LOCATION:Paulinenpflege, Winnenden, Gymnastikraum, Lange Gasse 7, 71364 Winnenden
END:VEVENT
BEGIN:VEVENT
DTSTAMP:20260419T172452
DTSTART;TZID=Europe/Berlin:20260408T160000
DTEND;TZID=Europe/Berlin:20260408T165500
UID:26F33019-20260408T160000@VHSWINNENDEN
SUMMARY:Pilates und Faszientraining am Nachmittag (26F33019) 
LOCATION:Paulinenpflege, Winnenden, Gymnastikraum, Lange Gasse 7, 71364 Winnenden
END:VEVENT
BEGIN:VEVENT
DTSTAMP:20260419T172452
DTSTART;TZID=Europe/Berlin:20260415T160000
DTEND;TZID=Europe/Berlin:20260415T165500
UID:26F33019-20260415T160000@VHSWINNENDEN
SUMMARY:Pilates und Faszientraining am Nachmittag (26F33019) 
LOCATION:Paulinenpflege, Winnenden, Gymnastikraum, Lange Gasse 7, 71364 Winnenden
END:VEVENT
BEGIN:VEVENT
DTSTAMP:20260419T172452
DTSTART;TZID=Europe/Berlin:20260422T160000
DTEND;TZID=Europe/Berlin:20260422T165500
UID:26F33019-20260422T160000@VHSWINNENDEN
SUMMARY:Pilates und Faszientraining am Nachmittag (26F33019) 
LOCATION:Paulinenpflege, Winnenden, Gymnastikraum, Lange Gasse 7, 71364 Winnenden
END:VEVENT
BEGIN:VEVENT
DTSTAMP:20260419T172452
DTSTART;TZID=Europe/Berlin:20260429T160000
DTEND;TZID=Europe/Berlin:20260429T165500
UID:26F33019-20260429T160000@VHSWINNENDEN
SUMMARY:Pilates und Faszientraining am Nachmittag (26F33019) 
LOCATION:Paulinenpflege, Winnenden, Gymnastikraum, Lange Gasse 7, 71364 Winnenden
END:VEVENT
BEGIN:VEVENT
DTSTAMP:20260419T172452
DTSTART;TZID=Europe/Berlin:20260506T160000
DTEND;TZID=Europe/Berlin:20260506T165500
UID:26F33019-20260506T160000@VHSWINNENDEN
SUMMARY:Pilates und Faszientraining am Nachmittag (26F33019) 
LOCATION:Paulinenpflege, Winnenden, Gymnastikraum, Lange Gasse 7, 71364 Winnenden
END:VEVENT
BEGIN:VEVENT
DTSTAMP:20260419T172452
DTSTART;TZID=Europe/Berlin:20260513T160000
DTEND;TZID=Europe/Berlin:20260513T165500
UID:26F33019-20260513T160000@VHSWINNENDEN
SUMMARY:Pilates und Faszientraining am Nachmittag (26F33019) 
LOCATION:Paulinenpflege, Winnenden, Gymnastikraum, Lange Gasse 7, 71364 Winnenden
END:VEVENT
BEGIN:VEVENT
DTSTAMP:20260419T172452
DTSTART;TZID=Europe/Berlin:20260520T160000
DTEND;TZID=Europe/Berlin:20260520T165500
UID:26F33019-20260520T160000@VHSWINNENDEN
SUMMARY:Pilates und Faszientraining am Nachmittag (26F33019) 
LOCATION:Paulinenpflege, Winnenden, Gymnastikraum, Lange Gasse 7, 71364 Winnenden
END:VEVENT
END:VCALENDAR