BEGIN:VCALENDAR
VERSION:2.0
PRODID:https://www.kufer.de/kuferweb / DE
METHOD:PUBLISH
CALSCALE:GREGORIAN
X-WR-TIMEZONE:Europe/Berlin
BEGIN:VTIMEZONE
TZID:Europe/Berlin
X-LIC-LOCATION:Europe/Berlin
BEGIN:DAYLIGHT
TZOFFSETFROM:+0100
TZOFFSETTO:+0200
TZNAME:CEST
DTSTART:19700329T020000
RRULE:FREQ=YEARLY;INTERVAL=1;BYDAY=-1SU;BYMONTH=3
END:DAYLIGHT
BEGIN:STANDARD
TZOFFSETFROM:+0200
TZOFFSETTO:+0100
TZNAME:CET
DTSTART:19701025T030000
RRULE:FREQ=YEARLY;INTERVAL=1;BYDAY=-1SU;BYMONTH=10
END:STANDARD
END:VTIMEZONE
BEGIN:VEVENT
DTSTAMP:20260422T160549
DTSTART;TZID=Europe/Berlin:20260702T181500
DTEND;TZID=Europe/Berlin:20260702T191500
UID:26F33017-20260702T181500@VHSWINNENDEN
SUMMARY:Pilates (26F33017) 
LOCATION:VHS Aktiv, Raum 2, Kornbeckstraße 4, Winnenden, Kornbeckstr. 4, 71364 Winnenden
END:VEVENT
BEGIN:VEVENT
DTSTAMP:20260422T160549
DTSTART;TZID=Europe/Berlin:20260709T181500
DTEND;TZID=Europe/Berlin:20260709T191500
UID:26F33017-20260709T181500@VHSWINNENDEN
SUMMARY:Pilates (26F33017) 
LOCATION:VHS Aktiv, Raum 2, Kornbeckstraße 4, Winnenden, Kornbeckstr. 4, 71364 Winnenden
END:VEVENT
BEGIN:VEVENT
DTSTAMP:20260422T160549
DTSTART;TZID=Europe/Berlin:20260716T181500
DTEND;TZID=Europe/Berlin:20260716T191500
UID:26F33017-20260716T181500@VHSWINNENDEN
SUMMARY:Pilates (26F33017) 
LOCATION:VHS Aktiv, Raum 2, Kornbeckstraße 4, Winnenden, Kornbeckstr. 4, 71364 Winnenden
END:VEVENT
BEGIN:VEVENT
DTSTAMP:20260422T160549
DTSTART;TZID=Europe/Berlin:20260723T181500
DTEND;TZID=Europe/Berlin:20260723T191500
UID:26F33017-20260723T181500@VHSWINNENDEN
SUMMARY:Pilates (26F33017) 
LOCATION:VHS Aktiv, Raum 2, Kornbeckstraße 4, Winnenden, Kornbeckstr. 4, 71364 Winnenden
END:VEVENT
BEGIN:VEVENT
DTSTAMP:20260422T160549
DTSTART;TZID=Europe/Berlin:20260730T181500
DTEND;TZID=Europe/Berlin:20260730T191500
UID:26F33017-20260730T181500@VHSWINNENDEN
SUMMARY:Pilates (26F33017) 
LOCATION:VHS Aktiv, Raum 2, Kornbeckstraße 4, Winnenden, Kornbeckstr. 4, 71364 Winnenden
END:VEVENT
BEGIN:VEVENT
DTSTAMP:20260422T160549
DTSTART;TZID=Europe/Berlin:20260806T181500
DTEND;TZID=Europe/Berlin:20260806T191500
UID:26F33017-20260806T181500@VHSWINNENDEN
SUMMARY:Pilates (26F33017) 
LOCATION:VHS Aktiv, Raum 2, Kornbeckstraße 4, Winnenden, Kornbeckstr. 4, 71364 Winnenden
END:VEVENT
BEGIN:VEVENT
DTSTAMP:20260422T160549
DTSTART;TZID=Europe/Berlin:20260813T181500
DTEND;TZID=Europe/Berlin:20260813T191500
UID:26F33017-20260813T181500@VHSWINNENDEN
SUMMARY:Pilates (26F33017) 
LOCATION:VHS Aktiv, Raum 2, Kornbeckstraße 4, Winnenden, Kornbeckstr. 4, 71364 Winnenden
END:VEVENT
BEGIN:VEVENT
DTSTAMP:20260422T160549
DTSTART;TZID=Europe/Berlin:20260820T181500
DTEND;TZID=Europe/Berlin:20260820T191500
UID:26F33017-20260820T181500@VHSWINNENDEN
SUMMARY:Pilates (26F33017) 
LOCATION:VHS Aktiv, Raum 2, Kornbeckstraße 4, Winnenden, Kornbeckstr. 4, 71364 Winnenden
END:VEVENT
BEGIN:VEVENT
DTSTAMP:20260422T160549
DTSTART;TZID=Europe/Berlin:20260827T181500
DTEND;TZID=Europe/Berlin:20260827T191500
UID:26F33017-20260827T181500@VHSWINNENDEN
SUMMARY:Pilates (26F33017) 
LOCATION:VHS Aktiv, Raum 2, Kornbeckstraße 4, Winnenden, Kornbeckstr. 4, 71364 Winnenden
END:VEVENT
BEGIN:VEVENT
DTSTAMP:20260422T160549
DTSTART;TZID=Europe/Berlin:20260903T181500
DTEND;TZID=Europe/Berlin:20260903T191500
UID:26F33017-20260903T181500@VHSWINNENDEN
SUMMARY:Pilates (26F33017) 
LOCATION:VHS Aktiv, Raum 2, Kornbeckstraße 4, Winnenden, Kornbeckstr. 4, 71364 Winnenden
END:VEVENT
END:VCALENDAR