BEGIN:VCALENDAR
VERSION:2.0
PRODID:https://www.kufer.de/kuferweb / DE
METHOD:PUBLISH
CALSCALE:GREGORIAN
X-WR-TIMEZONE:Europe/Berlin
BEGIN:VTIMEZONE
TZID:Europe/Berlin
X-LIC-LOCATION:Europe/Berlin
BEGIN:DAYLIGHT
TZOFFSETFROM:+0100
TZOFFSETTO:+0200
TZNAME:CEST
DTSTART:19700329T020000
RRULE:FREQ=YEARLY;INTERVAL=1;BYDAY=-1SU;BYMONTH=3
END:DAYLIGHT
BEGIN:STANDARD
TZOFFSETFROM:+0200
TZOFFSETTO:+0100
TZNAME:CET
DTSTART:19701025T030000
RRULE:FREQ=YEARLY;INTERVAL=1;BYDAY=-1SU;BYMONTH=10
END:STANDARD
END:VTIMEZONE
BEGIN:VEVENT
DTSTAMP:20260419T172508
DTSTART;TZID=Europe/Berlin:20260326T181500
DTEND;TZID=Europe/Berlin:20260326T191500
UID:26F33016-20260326T181500@VHSWINNENDEN
SUMMARY:Pilates klassisch (26F33016) 
LOCATION:VHS Aktiv, Raum 2, Kornbeckstraße 4, Winnenden, Kornbeckstr. 4, 71364 Winnenden
END:VEVENT
BEGIN:VEVENT
DTSTAMP:20260419T172508
DTSTART;TZID=Europe/Berlin:20260402T181500
DTEND;TZID=Europe/Berlin:20260402T191500
UID:26F33016-20260402T181500@VHSWINNENDEN
SUMMARY:Pilates klassisch (26F33016) 
LOCATION:VHS Aktiv, Raum 2, Kornbeckstraße 4, Winnenden, Kornbeckstr. 4, 71364 Winnenden
END:VEVENT
BEGIN:VEVENT
DTSTAMP:20260419T172508
DTSTART;TZID=Europe/Berlin:20260409T181500
DTEND;TZID=Europe/Berlin:20260409T191500
UID:26F33016-20260409T181500@VHSWINNENDEN
SUMMARY:Pilates klassisch (26F33016) 
LOCATION:VHS Aktiv, Raum 2, Kornbeckstraße 4, Winnenden, Kornbeckstr. 4, 71364 Winnenden
END:VEVENT
BEGIN:VEVENT
DTSTAMP:20260419T172508
DTSTART;TZID=Europe/Berlin:20260416T181500
DTEND;TZID=Europe/Berlin:20260416T191500
UID:26F33016-20260416T181500@VHSWINNENDEN
SUMMARY:Pilates klassisch (26F33016) 
LOCATION:VHS Aktiv, Raum 2, Kornbeckstraße 4, Winnenden, Kornbeckstr. 4, 71364 Winnenden
END:VEVENT
BEGIN:VEVENT
DTSTAMP:20260419T172508
DTSTART;TZID=Europe/Berlin:20260423T181500
DTEND;TZID=Europe/Berlin:20260423T191500
UID:26F33016-20260423T181500@VHSWINNENDEN
SUMMARY:Pilates klassisch (26F33016) 
LOCATION:VHS Aktiv, Raum 2, Kornbeckstraße 4, Winnenden, Kornbeckstr. 4, 71364 Winnenden
END:VEVENT
BEGIN:VEVENT
DTSTAMP:20260419T172508
DTSTART;TZID=Europe/Berlin:20260507T181500
DTEND;TZID=Europe/Berlin:20260507T191500
UID:26F33016-20260507T181500@VHSWINNENDEN
SUMMARY:Pilates klassisch (26F33016) 
LOCATION:VHS Aktiv, Raum 2, Kornbeckstraße 4, Winnenden, Kornbeckstr. 4, 71364 Winnenden
END:VEVENT
BEGIN:VEVENT
DTSTAMP:20260419T172508
DTSTART;TZID=Europe/Berlin:20260521T181500
DTEND;TZID=Europe/Berlin:20260521T191500
UID:26F33016-20260521T181500@VHSWINNENDEN
SUMMARY:Pilates klassisch (26F33016) 
LOCATION:VHS Aktiv, Raum 2, Kornbeckstraße 4, Winnenden, Kornbeckstr. 4, 71364 Winnenden
END:VEVENT
BEGIN:VEVENT
DTSTAMP:20260419T172508
DTSTART;TZID=Europe/Berlin:20260528T181500
DTEND;TZID=Europe/Berlin:20260528T191500
UID:26F33016-20260528T181500@VHSWINNENDEN
SUMMARY:Pilates klassisch (26F33016) 
LOCATION:VHS Aktiv, Raum 2, Kornbeckstraße 4, Winnenden, Kornbeckstr. 4, 71364 Winnenden
END:VEVENT
BEGIN:VEVENT
DTSTAMP:20260419T172508
DTSTART;TZID=Europe/Berlin:20260611T181500
DTEND;TZID=Europe/Berlin:20260611T191500
UID:26F33016-20260611T181500@VHSWINNENDEN
SUMMARY:Pilates klassisch (26F33016) 
LOCATION:VHS Aktiv, Raum 2, Kornbeckstraße 4, Winnenden, Kornbeckstr. 4, 71364 Winnenden
END:VEVENT
END:VCALENDAR