BEGIN:VCALENDAR
VERSION:2.0
PRODID:https://www.kufer.de/kuferweb / DE
METHOD:PUBLISH
CALSCALE:GREGORIAN
X-WR-TIMEZONE:Europe/Berlin
BEGIN:VTIMEZONE
TZID:Europe/Berlin
X-LIC-LOCATION:Europe/Berlin
BEGIN:DAYLIGHT
TZOFFSETFROM:+0100
TZOFFSETTO:+0200
TZNAME:CEST
DTSTART:19700329T020000
RRULE:FREQ=YEARLY;INTERVAL=1;BYDAY=-1SU;BYMONTH=3
END:DAYLIGHT
BEGIN:STANDARD
TZOFFSETFROM:+0200
TZOFFSETTO:+0100
TZNAME:CET
DTSTART:19701025T030000
RRULE:FREQ=YEARLY;INTERVAL=1;BYDAY=-1SU;BYMONTH=10
END:STANDARD
END:VTIMEZONE
BEGIN:VEVENT
DTSTAMP:20260419T171423
DTSTART;TZID=Europe/Berlin:20260413T090000
DTEND;TZID=Europe/Berlin:20260413T104500
UID:26F32212-20260413T090000@VHSWINNENDEN
SUMMARY:Hatha Yoga Entspannung und Stärkung durch Hatha Yoga (26F32212) 
LOCATION:VHS Aktiv, Raum 2, Kornbeckstraße 4, Winnenden, Kornbeckstr. 4, 71364 Winnenden
END:VEVENT
BEGIN:VEVENT
DTSTAMP:20260419T171423
DTSTART;TZID=Europe/Berlin:20260420T090000
DTEND;TZID=Europe/Berlin:20260420T104500
UID:26F32212-20260420T090000@VHSWINNENDEN
SUMMARY:Hatha Yoga Entspannung und Stärkung durch Hatha Yoga (26F32212) 
LOCATION:VHS Aktiv, Raum 2, Kornbeckstraße 4, Winnenden, Kornbeckstr. 4, 71364 Winnenden
END:VEVENT
BEGIN:VEVENT
DTSTAMP:20260419T171423
DTSTART;TZID=Europe/Berlin:20260427T090000
DTEND;TZID=Europe/Berlin:20260427T104500
UID:26F32212-20260427T090000@VHSWINNENDEN
SUMMARY:Hatha Yoga Entspannung und Stärkung durch Hatha Yoga (26F32212) 
LOCATION:VHS Aktiv, Raum 2, Kornbeckstraße 4, Winnenden, Kornbeckstr. 4, 71364 Winnenden
END:VEVENT
BEGIN:VEVENT
DTSTAMP:20260419T171423
DTSTART;TZID=Europe/Berlin:20260504T090000
DTEND;TZID=Europe/Berlin:20260504T104500
UID:26F32212-20260504T090000@VHSWINNENDEN
SUMMARY:Hatha Yoga Entspannung und Stärkung durch Hatha Yoga (26F32212) 
LOCATION:VHS Aktiv, Raum 2, Kornbeckstraße 4, Winnenden, Kornbeckstr. 4, 71364 Winnenden
END:VEVENT
BEGIN:VEVENT
DTSTAMP:20260419T171423
DTSTART;TZID=Europe/Berlin:20260511T090000
DTEND;TZID=Europe/Berlin:20260511T104500
UID:26F32212-20260511T090000@VHSWINNENDEN
SUMMARY:Hatha Yoga Entspannung und Stärkung durch Hatha Yoga (26F32212) 
LOCATION:VHS Aktiv, Raum 2, Kornbeckstraße 4, Winnenden, Kornbeckstr. 4, 71364 Winnenden
END:VEVENT
BEGIN:VEVENT
DTSTAMP:20260419T171423
DTSTART;TZID=Europe/Berlin:20260518T090000
DTEND;TZID=Europe/Berlin:20260518T104500
UID:26F32212-20260518T090000@VHSWINNENDEN
SUMMARY:Hatha Yoga Entspannung und Stärkung durch Hatha Yoga (26F32212) 
LOCATION:VHS Aktiv, Raum 2, Kornbeckstraße 4, Winnenden, Kornbeckstr. 4, 71364 Winnenden
END:VEVENT
BEGIN:VEVENT
DTSTAMP:20260419T171423
DTSTART;TZID=Europe/Berlin:20260608T090000
DTEND;TZID=Europe/Berlin:20260608T104500
UID:26F32212-20260608T090000@VHSWINNENDEN
SUMMARY:Hatha Yoga Entspannung und Stärkung durch Hatha Yoga (26F32212) 
LOCATION:VHS Aktiv, Raum 2, Kornbeckstraße 4, Winnenden, Kornbeckstr. 4, 71364 Winnenden
END:VEVENT
BEGIN:VEVENT
DTSTAMP:20260419T171423
DTSTART;TZID=Europe/Berlin:20260615T090000
DTEND;TZID=Europe/Berlin:20260615T104500
UID:26F32212-20260615T090000@VHSWINNENDEN
SUMMARY:Hatha Yoga Entspannung und Stärkung durch Hatha Yoga (26F32212) 
LOCATION:VHS Aktiv, Raum 2, Kornbeckstraße 4, Winnenden, Kornbeckstr. 4, 71364 Winnenden
END:VEVENT
BEGIN:VEVENT
DTSTAMP:20260419T171423
DTSTART;TZID=Europe/Berlin:20260622T090000
DTEND;TZID=Europe/Berlin:20260622T104500
UID:26F32212-20260622T090000@VHSWINNENDEN
SUMMARY:Hatha Yoga Entspannung und Stärkung durch Hatha Yoga (26F32212) 
LOCATION:VHS Aktiv, Raum 2, Kornbeckstraße 4, Winnenden, Kornbeckstr. 4, 71364 Winnenden
END:VEVENT
BEGIN:VEVENT
DTSTAMP:20260419T171423
DTSTART;TZID=Europe/Berlin:20260629T090000
DTEND;TZID=Europe/Berlin:20260629T104500
UID:26F32212-20260629T090000@VHSWINNENDEN
SUMMARY:Hatha Yoga Entspannung und Stärkung durch Hatha Yoga (26F32212) 
LOCATION:VHS Aktiv, Raum 2, Kornbeckstraße 4, Winnenden, Kornbeckstr. 4, 71364 Winnenden
END:VEVENT
END:VCALENDAR