BEGIN:VCALENDAR
VERSION:2.0
PRODID:https://www.kufer.de/kuferweb / DE
METHOD:PUBLISH
CALSCALE:GREGORIAN
X-WR-TIMEZONE:Europe/Berlin
BEGIN:VTIMEZONE
TZID:Europe/Berlin
X-LIC-LOCATION:Europe/Berlin
BEGIN:DAYLIGHT
TZOFFSETFROM:+0100
TZOFFSETTO:+0200
TZNAME:CEST
DTSTART:19700329T020000
RRULE:FREQ=YEARLY;INTERVAL=1;BYDAY=-1SU;BYMONTH=3
END:DAYLIGHT
BEGIN:STANDARD
TZOFFSETFROM:+0200
TZOFFSETTO:+0100
TZNAME:CET
DTSTART:19701025T030000
RRULE:FREQ=YEARLY;INTERVAL=1;BYDAY=-1SU;BYMONTH=10
END:STANDARD
END:VTIMEZONE
BEGIN:VEVENT
DTSTAMP:20260419T191301
DTSTART;TZID=Europe/Berlin:20260224T193000
DTEND;TZID=Europe/Berlin:20260224T210000
UID:26F32204-20260224T193000@VHSWINNENDEN
SUMMARY:Klassisches Yoga für alle (26F32204) 
LOCATION:VHS Aktiv, Raum 1, Kornbeckstraße 4, Winnenden, Kornbeckstr. 4, 71364 Winnenden
END:VEVENT
BEGIN:VEVENT
DTSTAMP:20260419T191301
DTSTART;TZID=Europe/Berlin:20260303T193000
DTEND;TZID=Europe/Berlin:20260303T210000
UID:26F32204-20260303T193000@VHSWINNENDEN
SUMMARY:Klassisches Yoga für alle (26F32204) 
LOCATION:VHS Aktiv, Raum 1, Kornbeckstraße 4, Winnenden, Kornbeckstr. 4, 71364 Winnenden
END:VEVENT
BEGIN:VEVENT
DTSTAMP:20260419T191301
DTSTART;TZID=Europe/Berlin:20260310T193000
DTEND;TZID=Europe/Berlin:20260310T210000
UID:26F32204-20260310T193000@VHSWINNENDEN
SUMMARY:Klassisches Yoga für alle (26F32204) 
LOCATION:VHS Aktiv, Raum 1, Kornbeckstraße 4, Winnenden, Kornbeckstr. 4, 71364 Winnenden
END:VEVENT
BEGIN:VEVENT
DTSTAMP:20260419T191301
DTSTART;TZID=Europe/Berlin:20260317T193000
DTEND;TZID=Europe/Berlin:20260317T210000
UID:26F32204-20260317T193000@VHSWINNENDEN
SUMMARY:Klassisches Yoga für alle (26F32204) 
LOCATION:VHS Aktiv, Raum 1, Kornbeckstraße 4, Winnenden, Kornbeckstr. 4, 71364 Winnenden
END:VEVENT
BEGIN:VEVENT
DTSTAMP:20260419T191301
DTSTART;TZID=Europe/Berlin:20260324T193000
DTEND;TZID=Europe/Berlin:20260324T210000
UID:26F32204-20260324T193000@VHSWINNENDEN
SUMMARY:Klassisches Yoga für alle (26F32204) 
LOCATION:VHS Aktiv, Raum 1, Kornbeckstraße 4, Winnenden, Kornbeckstr. 4, 71364 Winnenden
END:VEVENT
BEGIN:VEVENT
DTSTAMP:20260419T191301
DTSTART;TZID=Europe/Berlin:20260414T193000
DTEND;TZID=Europe/Berlin:20260414T210000
UID:26F32204-20260414T193000@VHSWINNENDEN
SUMMARY:Klassisches Yoga für alle (26F32204) 
LOCATION:VHS Aktiv, Raum 1, Kornbeckstraße 4, Winnenden, Kornbeckstr. 4, 71364 Winnenden
END:VEVENT
BEGIN:VEVENT
DTSTAMP:20260419T191301
DTSTART;TZID=Europe/Berlin:20260421T193000
DTEND;TZID=Europe/Berlin:20260421T210000
UID:26F32204-20260421T193000@VHSWINNENDEN
SUMMARY:Klassisches Yoga für alle (26F32204) 
LOCATION:VHS Aktiv, Raum 1, Kornbeckstraße 4, Winnenden, Kornbeckstr. 4, 71364 Winnenden
END:VEVENT
BEGIN:VEVENT
DTSTAMP:20260419T191301
DTSTART;TZID=Europe/Berlin:20260428T193000
DTEND;TZID=Europe/Berlin:20260428T210000
UID:26F32204-20260428T193000@VHSWINNENDEN
SUMMARY:Klassisches Yoga für alle (26F32204) 
LOCATION:VHS Aktiv, Raum 1, Kornbeckstraße 4, Winnenden, Kornbeckstr. 4, 71364 Winnenden
END:VEVENT
BEGIN:VEVENT
DTSTAMP:20260419T191301
DTSTART;TZID=Europe/Berlin:20260505T193000
DTEND;TZID=Europe/Berlin:20260505T210000
UID:26F32204-20260505T193000@VHSWINNENDEN
SUMMARY:Klassisches Yoga für alle (26F32204) 
LOCATION:VHS Aktiv, Raum 1, Kornbeckstraße 4, Winnenden, Kornbeckstr. 4, 71364 Winnenden
END:VEVENT
BEGIN:VEVENT
DTSTAMP:20260419T191301
DTSTART;TZID=Europe/Berlin:20260512T193000
DTEND;TZID=Europe/Berlin:20260512T210000
UID:26F32204-20260512T193000@VHSWINNENDEN
SUMMARY:Klassisches Yoga für alle (26F32204) 
LOCATION:VHS Aktiv, Raum 1, Kornbeckstraße 4, Winnenden, Kornbeckstr. 4, 71364 Winnenden
END:VEVENT
BEGIN:VEVENT
DTSTAMP:20260419T191301
DTSTART;TZID=Europe/Berlin:20260519T193000
DTEND;TZID=Europe/Berlin:20260519T210000
UID:26F32204-20260519T193000@VHSWINNENDEN
SUMMARY:Klassisches Yoga für alle (26F32204) 
LOCATION:VHS Aktiv, Raum 1, Kornbeckstraße 4, Winnenden, Kornbeckstr. 4, 71364 Winnenden
END:VEVENT
BEGIN:VEVENT
DTSTAMP:20260419T191301
DTSTART;TZID=Europe/Berlin:20260623T193000
DTEND;TZID=Europe/Berlin:20260623T210000
UID:26F32204-20260623T193000@VHSWINNENDEN
SUMMARY:Klassisches Yoga für alle (26F32204) 
LOCATION:VHS Aktiv, Raum 1, Kornbeckstraße 4, Winnenden, Kornbeckstr. 4, 71364 Winnenden
END:VEVENT
BEGIN:VEVENT
DTSTAMP:20260419T191301
DTSTART;TZID=Europe/Berlin:20260630T193000
DTEND;TZID=Europe/Berlin:20260630T210000
UID:26F32204-20260630T193000@VHSWINNENDEN
SUMMARY:Klassisches Yoga für alle (26F32204) 
LOCATION:VHS Aktiv, Raum 1, Kornbeckstraße 4, Winnenden, Kornbeckstr. 4, 71364 Winnenden
END:VEVENT
BEGIN:VEVENT
DTSTAMP:20260419T191301
DTSTART;TZID=Europe/Berlin:20260707T193000
DTEND;TZID=Europe/Berlin:20260707T210000
UID:26F32204-20260707T193000@VHSWINNENDEN
DESCRIPTION:NHT
SUMMARY:Klassisches Yoga für alle (26F32204) 
LOCATION:VHS Aktiv, Raum 1, Kornbeckstraße 4, Winnenden, Kornbeckstr. 4, 71364 Winnenden
END:VEVENT
BEGIN:VEVENT
DTSTAMP:20260419T191301
DTSTART;TZID=Europe/Berlin:20260714T193000
DTEND;TZID=Europe/Berlin:20260714T210000
UID:26F32204-20260714T193000@VHSWINNENDEN
DESCRIPTION:NHT
SUMMARY:Klassisches Yoga für alle (26F32204) 
LOCATION:VHS Aktiv, Raum 1, Kornbeckstraße 4, Winnenden, Kornbeckstr. 4, 71364 Winnenden
END:VEVENT
END:VCALENDAR