BEGIN:VCALENDAR
VERSION:2.0
PRODID:https://www.kufer.de/kuferweb / DE
METHOD:PUBLISH
CALSCALE:GREGORIAN
X-WR-TIMEZONE:Europe/Berlin
BEGIN:VTIMEZONE
TZID:Europe/Berlin
X-LIC-LOCATION:Europe/Berlin
BEGIN:DAYLIGHT
TZOFFSETFROM:+0100
TZOFFSETTO:+0200
TZNAME:CEST
DTSTART:19700329T020000
RRULE:FREQ=YEARLY;INTERVAL=1;BYDAY=-1SU;BYMONTH=3
END:DAYLIGHT
BEGIN:STANDARD
TZOFFSETFROM:+0200
TZOFFSETTO:+0100
TZNAME:CET
DTSTART:19701025T030000
RRULE:FREQ=YEARLY;INTERVAL=1;BYDAY=-1SU;BYMONTH=10
END:STANDARD
END:VTIMEZONE
BEGIN:VEVENT
DTSTAMP:20260421T135531
DTSTART;TZID=Europe/Berlin:20260616T183000
DTEND;TZID=Europe/Berlin:20260616T203000
UID:26F30018-20260616T183000@VHSWINNENDEN
SUMMARY:Ganzheitliches Sehtraining (26F30018) 
LOCATION:VHS Winnenden, Marktstraße 47, Winnenden, Raum VII, Marktstr. 47, 71364 Winnenden
END:VEVENT
BEGIN:VEVENT
DTSTAMP:20260421T135531
DTSTART;TZID=Europe/Berlin:20260623T183000
DTEND;TZID=Europe/Berlin:20260623T203000
UID:26F30018-20260623T183000@VHSWINNENDEN
SUMMARY:Ganzheitliches Sehtraining (26F30018) 
LOCATION:VHS Winnenden, Marktstraße 47, Winnenden, Raum VII, Marktstr. 47, 71364 Winnenden
END:VEVENT
END:VCALENDAR