BEGIN:VCALENDAR
VERSION:2.0
PRODID:https://www.kufer.de/kuferweb / DE
METHOD:PUBLISH
CALSCALE:GREGORIAN
X-WR-TIMEZONE:Europe/Berlin
BEGIN:VTIMEZONE
TZID:Europe/Berlin
X-LIC-LOCATION:Europe/Berlin
BEGIN:DAYLIGHT
TZOFFSETFROM:+0100
TZOFFSETTO:+0200
TZNAME:CEST
DTSTART:19700329T020000
RRULE:FREQ=YEARLY;INTERVAL=1;BYDAY=-1SU;BYMONTH=3
END:DAYLIGHT
BEGIN:STANDARD
TZOFFSETFROM:+0200
TZOFFSETTO:+0100
TZNAME:CET
DTSTART:19701025T030000
RRULE:FREQ=YEARLY;INTERVAL=1;BYDAY=-1SU;BYMONTH=10
END:STANDARD
END:VTIMEZONE
BEGIN:VEVENT
DTSTAMP:20260419T140101
DTSTART;TZID=Europe/Berlin:20260423T170000
DTEND;TZID=Europe/Berlin:20260423T210000
UID:26F20502-20260423T170000@VHSWINNENDEN
SUMMARY:Graffiti - Workshop für Interessierte ohne Vorkenntnisse (26F20502) 
LOCATION:VHS Unteres Remstal, Fellbach, Eisenbahnstraße 23, Raum 03, Eisenbahnstraße 23, 70736 Fellbach
END:VEVENT
BEGIN:VEVENT
DTSTAMP:20260419T140101
DTSTART;TZID=Europe/Berlin:20260426T100000
DTEND;TZID=Europe/Berlin:20260426T150000
UID:26F20502-20260426T100000@VHSWINNENDEN
SUMMARY:Graffiti - Workshop für Interessierte ohne Vorkenntnisse (26F20502) 
LOCATION:Hall of Fame, Bad Cannstatt, unter der König-Karls-Brücke
END:VEVENT
END:VCALENDAR