BEGIN:VCALENDAR
VERSION:2.0
PRODID:https://www.kufer.de/kuferweb / DE
METHOD:PUBLISH
CALSCALE:GREGORIAN
X-WR-TIMEZONE:Europe/Berlin
BEGIN:VTIMEZONE
TZID:Europe/Berlin
X-LIC-LOCATION:Europe/Berlin
BEGIN:DAYLIGHT
TZOFFSETFROM:+0100
TZOFFSETTO:+0200
TZNAME:CEST
DTSTART:19700329T020000
RRULE:FREQ=YEARLY;INTERVAL=1;BYDAY=-1SU;BYMONTH=3
END:DAYLIGHT
BEGIN:STANDARD
TZOFFSETFROM:+0200
TZOFFSETTO:+0100
TZNAME:CET
DTSTART:19701025T030000
RRULE:FREQ=YEARLY;INTERVAL=1;BYDAY=-1SU;BYMONTH=10
END:STANDARD
END:VTIMEZONE
BEGIN:VEVENT
DTSTAMP:20260419T191311
DTSTART;TZID=Europe/Berlin:20260514T070000
DTEND;TZID=Europe/Berlin:20260514T210000
UID:26F20264-20260514T070000@VHSWINNENDEN
SUMMARY:In Moll - La Biennale di Venezia (26F20264) 
LOCATION:Schlienz-Tours, Kernen, Willy-Rüsch-Str. 11, 71394 Kernen
END:VEVENT
BEGIN:VEVENT
DTSTAMP:20260419T191311
DTSTART;TZID=Europe/Berlin:20260515T070000
DTEND;TZID=Europe/Berlin:20260515T210000
UID:26F20264-20260515T070000@VHSWINNENDEN
SUMMARY:In Moll - La Biennale di Venezia (26F20264) 
LOCATION:Schlienz-Tours, Kernen, Willy-Rüsch-Str. 11, 71394 Kernen
END:VEVENT
BEGIN:VEVENT
DTSTAMP:20260419T191311
DTSTART;TZID=Europe/Berlin:20260516T070000
DTEND;TZID=Europe/Berlin:20260516T210000
UID:26F20264-20260516T070000@VHSWINNENDEN
SUMMARY:In Moll - La Biennale di Venezia (26F20264) 
LOCATION:Schlienz-Tours, Kernen, Willy-Rüsch-Str. 11, 71394 Kernen
END:VEVENT
BEGIN:VEVENT
DTSTAMP:20260419T191311
DTSTART;TZID=Europe/Berlin:20260517T070000
DTEND;TZID=Europe/Berlin:20260517T210000
UID:26F20264-20260517T070000@VHSWINNENDEN
SUMMARY:In Moll - La Biennale di Venezia (26F20264) 
LOCATION:Schlienz-Tours, Kernen, Willy-Rüsch-Str. 11, 71394 Kernen
END:VEVENT
BEGIN:VEVENT
DTSTAMP:20260419T191311
DTSTART;TZID=Europe/Berlin:20260518T070000
DTEND;TZID=Europe/Berlin:20260518T210000
UID:26F20264-20260518T070000@VHSWINNENDEN
SUMMARY:In Moll - La Biennale di Venezia (26F20264) 
LOCATION:Schlienz-Tours, Kernen, Willy-Rüsch-Str. 11, 71394 Kernen
END:VEVENT
END:VCALENDAR