BEGIN:VCALENDAR
VERSION:2.0
PRODID:https://www.kufer.de/kuferweb / DE
METHOD:PUBLISH
CALSCALE:GREGORIAN
X-WR-TIMEZONE:Europe/Berlin
BEGIN:VTIMEZONE
TZID:Europe/Berlin
X-LIC-LOCATION:Europe/Berlin
BEGIN:DAYLIGHT
TZOFFSETFROM:+0100
TZOFFSETTO:+0200
TZNAME:CEST
DTSTART:19700329T020000
RRULE:FREQ=YEARLY;INTERVAL=1;BYDAY=-1SU;BYMONTH=3
END:DAYLIGHT
BEGIN:STANDARD
TZOFFSETFROM:+0200
TZOFFSETTO:+0100
TZNAME:CET
DTSTART:19701025T030000
RRULE:FREQ=YEARLY;INTERVAL=1;BYDAY=-1SU;BYMONTH=10
END:STANDARD
END:VTIMEZONE
BEGIN:VEVENT
DTSTAMP:20260421T133216
DTSTART;TZID=Europe/Berlin:20260701T063500
DTEND;TZID=Europe/Berlin:20260701T200000
UID:26F20252-20260701T063500@VHSWINNENDEN
SUMMARY:Kunstfahrt nach Frankfurt: "Die Küste Monets - Die Entdeckung von Etretat" (26F20252) 
LOCATION:Busbahnhof, Steig Sonderfahrten, Winnenden, Bahnhofstr. 4, 71364 Winnenden
END:VEVENT
END:VCALENDAR