BEGIN:VCALENDAR
VERSION:2.0
PRODID:https://www.kufer.de/kuferweb / DE
METHOD:PUBLISH
CALSCALE:GREGORIAN
X-WR-TIMEZONE:Europe/Berlin
BEGIN:VTIMEZONE
TZID:Europe/Berlin
X-LIC-LOCATION:Europe/Berlin
BEGIN:DAYLIGHT
TZOFFSETFROM:+0100
TZOFFSETTO:+0200
TZNAME:CEST
DTSTART:19700329T020000
RRULE:FREQ=YEARLY;INTERVAL=1;BYDAY=-1SU;BYMONTH=3
END:DAYLIGHT
BEGIN:STANDARD
TZOFFSETFROM:+0200
TZOFFSETTO:+0100
TZNAME:CET
DTSTART:19701025T030000
RRULE:FREQ=YEARLY;INTERVAL=1;BYDAY=-1SU;BYMONTH=10
END:STANDARD
END:VTIMEZONE
BEGIN:VEVENT
DTSTAMP:20260421T101711
DTSTART;TZID=Europe/Berlin:20260530T000000
DTEND;TZID=Europe/Berlin:20260530T235900
UID:26F10960-20260530T000000@VHSWINNENDEN
SUMMARY:Studienreisen: Äolische Inseln (Sizilien) Kleine Studienkreuzfahrt  (26F10960) 
LOCATION:Flughafen Stuttgart, 70629 Stuttgart
END:VEVENT
BEGIN:VEVENT
DTSTAMP:20260421T101711
DTSTART;TZID=Europe/Berlin:20260531T000000
DTEND;TZID=Europe/Berlin:20260531T235900
UID:26F10960-20260531T000000@VHSWINNENDEN
SUMMARY:Studienreisen: Äolische Inseln (Sizilien) Kleine Studienkreuzfahrt  (26F10960) 
LOCATION:Flughafen Stuttgart, 70629 Stuttgart
END:VEVENT
BEGIN:VEVENT
DTSTAMP:20260421T101711
DTSTART;TZID=Europe/Berlin:20260601T000000
DTEND;TZID=Europe/Berlin:20260601T235900
UID:26F10960-20260601T000000@VHSWINNENDEN
SUMMARY:Studienreisen: Äolische Inseln (Sizilien) Kleine Studienkreuzfahrt  (26F10960) 
LOCATION:Flughafen Stuttgart, 70629 Stuttgart
END:VEVENT
BEGIN:VEVENT
DTSTAMP:20260421T101711
DTSTART;TZID=Europe/Berlin:20260602T000000
DTEND;TZID=Europe/Berlin:20260602T235900
UID:26F10960-20260602T000000@VHSWINNENDEN
SUMMARY:Studienreisen: Äolische Inseln (Sizilien) Kleine Studienkreuzfahrt  (26F10960) 
LOCATION:Flughafen Stuttgart, 70629 Stuttgart
END:VEVENT
BEGIN:VEVENT
DTSTAMP:20260421T101711
DTSTART;TZID=Europe/Berlin:20260603T000000
DTEND;TZID=Europe/Berlin:20260603T235900
UID:26F10960-20260603T000000@VHSWINNENDEN
SUMMARY:Studienreisen: Äolische Inseln (Sizilien) Kleine Studienkreuzfahrt  (26F10960) 
LOCATION:Flughafen Stuttgart, 70629 Stuttgart
END:VEVENT
BEGIN:VEVENT
DTSTAMP:20260421T101711
DTSTART;TZID=Europe/Berlin:20260604T000000
DTEND;TZID=Europe/Berlin:20260604T235900
UID:26F10960-20260604T000000@VHSWINNENDEN
SUMMARY:Studienreisen: Äolische Inseln (Sizilien) Kleine Studienkreuzfahrt  (26F10960) 
LOCATION:Flughafen Stuttgart, 70629 Stuttgart
END:VEVENT
BEGIN:VEVENT
DTSTAMP:20260421T101711
DTSTART;TZID=Europe/Berlin:20260605T000000
DTEND;TZID=Europe/Berlin:20260605T235900
UID:26F10960-20260605T000000@VHSWINNENDEN
SUMMARY:Studienreisen: Äolische Inseln (Sizilien) Kleine Studienkreuzfahrt  (26F10960) 
LOCATION:Flughafen Stuttgart, 70629 Stuttgart
END:VEVENT
BEGIN:VEVENT
DTSTAMP:20260421T101711
DTSTART;TZID=Europe/Berlin:20260606T000000
DTEND;TZID=Europe/Berlin:20260606T235900
UID:26F10960-20260606T000000@VHSWINNENDEN
SUMMARY:Studienreisen: Äolische Inseln (Sizilien) Kleine Studienkreuzfahrt  (26F10960) 
LOCATION:Flughafen Stuttgart, 70629 Stuttgart
END:VEVENT
BEGIN:VEVENT
DTSTAMP:20260421T101711
DTSTART;TZID=Europe/Berlin:20260607T000000
DTEND;TZID=Europe/Berlin:20260607T235900
UID:26F10960-20260607T000000@VHSWINNENDEN
SUMMARY:Studienreisen: Äolische Inseln (Sizilien) Kleine Studienkreuzfahrt  (26F10960) 
LOCATION:Flughafen Stuttgart, 70629 Stuttgart
END:VEVENT
END:VCALENDAR