BEGIN:VCALENDAR
VERSION:2.0
PRODID:https://www.kufer.de/kuferweb / DE
METHOD:PUBLISH
CALSCALE:GREGORIAN
X-WR-TIMEZONE:Europe/Berlin
BEGIN:VTIMEZONE
TZID:Europe/Berlin
X-LIC-LOCATION:Europe/Berlin
BEGIN:DAYLIGHT
TZOFFSETFROM:+0100
TZOFFSETTO:+0200
TZNAME:CEST
DTSTART:19700329T020000
RRULE:FREQ=YEARLY;INTERVAL=1;BYDAY=-1SU;BYMONTH=3
END:DAYLIGHT
BEGIN:STANDARD
TZOFFSETFROM:+0200
TZOFFSETTO:+0100
TZNAME:CET
DTSTART:19701025T030000
RRULE:FREQ=YEARLY;INTERVAL=1;BYDAY=-1SU;BYMONTH=10
END:STANDARD
END:VTIMEZONE
BEGIN:VEVENT
DTSTAMP:20260419T171511
DTSTART;TZID=Europe/Berlin:20260306T180000
DTEND;TZID=Europe/Berlin:20260306T210000
UID:25H38122-20260306T180000@VHSWINNENDEN
DESCRIPTION:Ersatz für Ausfall am 30.01.2026
SUMMARY:Äthiopische Küche (25H38122) 
LOCATION:Albertville-Realschule, Textiles Werken / Küchen, Küche 1, Albertviller Str. 32, 71364 Winnenden
END:VEVENT
END:VCALENDAR